BEGIN:VCALENDAR
VERSION:2.0
PRODID:-//RS Training - ECPv6.13.1//NONSGML v1.0//EN
CALSCALE:GREGORIAN
METHOD:PUBLISH
X-ORIGINAL-URL:https://rs-dt-training.co.uk
X-WR-CALDESC:Events for RS Training
REFRESH-INTERVAL;VALUE=DURATION:PT1H
X-Robots-Tag:noindex
X-PUBLISHED-TTL:PT1H
BEGIN:VTIMEZONE
TZID:UTC
BEGIN:STANDARD
TZOFFSETFROM:+0000
TZOFFSETTO:+0000
TZNAME:UTC
DTSTART:20250101T000000
END:STANDARD
END:VTIMEZONE
BEGIN:VEVENT
DTSTART;TZID=UTC:20250904T090000
DTEND;TZID=UTC:20250904T160000
DTSTAMP:20260421T213234
CREATED:20250608T114056Z
LAST-MODIFIED:20250612T151526Z
UID:1202-1756976400-1757001600@rs-dt-training.co.uk
SUMMARY:S1HS Safe use of wood sawing machines
DESCRIPTION:This Nationally accredited practical course will provide: Teachers Technicians Support staff/Premises Staff In Design and Technology Departments ‘initial training’ on the Specialist Extension Level: S1HS WOOD SAWING MACHINES The course is suitable if you require a new certificate on this range of machines. This is not a refresher course for those who already have certificates or […]
URL:https://rs-dt-training.co.uk/course/s1hs-safe-use-of-wood-sawing-machines/
LOCATION:Herewoode Academy\, New Parks\, Leicester LE36DN
ATTACH;FMTTYPE=image/jpeg:https://rs-dt-training.co.uk/wp-content/uploads/RS-DT-Training-based-in-Leicester-22-scaled.jpg
ORGANIZER;CN="RS Training":MAILTO:info@rs-dt-training.co.uk
END:VEVENT
END:VCALENDAR