BEGIN:VCALENDAR
VERSION:2.0
PRODID:-//RS Training - ECPv6.13.1//NONSGML v1.0//EN
CALSCALE:GREGORIAN
METHOD:PUBLISH
X-ORIGINAL-URL:https://rs-dt-training.co.uk
X-WR-CALDESC:Events for RS Training
REFRESH-INTERVAL;VALUE=DURATION:PT1H
X-Robots-Tag:noindex
X-PUBLISHED-TTL:PT1H
BEGIN:VTIMEZONE
TZID:UTC
BEGIN:STANDARD
TZOFFSETFROM:+0000
TZOFFSETTO:+0000
TZNAME:UTC
DTSTART:20260101T000000
END:STANDARD
END:VTIMEZONE
BEGIN:VEVENT
DTSTART;TZID=UTC:20260219T090000
DTEND;TZID=UTC:20260219T123000
DTSTAMP:20260421T151428
CREATED:20251111T133521Z
LAST-MODIFIED:20251111T133521Z
UID:1436-1771491600-1771504200@rs-dt-training.co.uk
SUMMARY:SCHSR Secondary Core Elements Health and Safety Refresher
DESCRIPTION:This Nationally accredited practical course will provide: \n\nTeachers\nTechnicians\nSupport staff/Premises Staff\n\nIn Design and Technology Departments ‘refresher’ training on the Specialist Level: SCHS Secondary Core Level Training (Refresher) \nThis course is suitable for all colleagues who have completed the Core Level Training Standards and the personal Health and Safety portfolio and whose Design and Technology Association accreditation is now due for renewal.  The course will extend and update your knowledge and understanding of health and safety and will include a range of activities\, including: \n\nChecking knowledge and understanding of H&S\nExtending knowledge and understanding of H&S\nEnsuring that risk assessments are ‘suitable and sufficient’\nExploring environmental issues\, incl. lighting\, heating\, dust\, noise and vibration\nInvestigating accidents\nMeasuring competence\nTeaching and learning strategies\n\n  \nPlease Note: Colleagues attending should bring their personal Health and Safety portfolios along as a reference to use during the course\, and there will be an opportunity to update it to meet the requirements for re-accreditation of the D&T Association Core Level Training Standards during the session.
URL:https://rs-dt-training.co.uk/course/schsr-secondary-core-elements-health-and-safety-refresher-6/
LOCATION:Herewoode Academy\, New Parks\, Leicester LE36DN
CATEGORIES:Health & Safety
ATTACH;FMTTYPE=image/jpeg:https://rs-dt-training.co.uk/wp-content/uploads/RS-DT-Training-based-in-Leicester-26-scaled-e1717083068892.jpg
ORGANIZER;CN="RS Training":MAILTO:info@rs-dt-training.co.uk
END:VEVENT
END:VCALENDAR