BEGIN:VCALENDAR
VERSION:2.0
PRODID:-//RS Training - ECPv6.13.1//NONSGML v1.0//EN
CALSCALE:GREGORIAN
METHOD:PUBLISH
X-ORIGINAL-URL:https://rs-dt-training.co.uk
X-WR-CALDESC:Events for RS Training
REFRESH-INTERVAL;VALUE=DURATION:PT1H
X-Robots-Tag:noindex
X-PUBLISHED-TTL:PT1H
BEGIN:VTIMEZONE
TZID:UTC
BEGIN:STANDARD
TZOFFSETFROM:+0000
TZOFFSETTO:+0000
TZNAME:UTC
DTSTART:20250101T000000
END:STANDARD
END:VTIMEZONE
BEGIN:VEVENT
DTSTART;TZID=UTC:20250603T090000
DTEND;TZID=UTC:20250603T160000
DTSTAMP:20260421T190329
CREATED:20250314T091052Z
LAST-MODIFIED:20250314T091900Z
UID:1111-1748941200-1748966400@rs-dt-training.co.uk
SUMMARY:SMHS Secondary Materials Health and Safety
DESCRIPTION:This Nationally accredited practical course will provide: \n\nTeachers\nTechnicians\nSupport staff/Premises Staff\n\nIn Design and Technology Departments ‘initial training’ on the Specialist Level: SMHS Secondary Materials Health and Safety \nThis course will enable delegates to acquire H&S accreditation certification through a ‘hands on’ approach using the following… \n\nDrilling Machine\nSanding Machine\nPortable power tools (Drill & Sander)\nPower Fret Saw\nOff Hand Grinder\nHand Tools\nPlastics Moulding Equipment\nMortiser\n\nPlease note – Certification is valid for a period of 5 years.\nACCREDITATION CERTIFICATE PRICE INCREASED BY DATA (as from March 1st
URL:https://rs-dt-training.co.uk/course/smhs-secondary-materials-health-and-safety-11/
LOCATION:Training Location\, The Herewoode Academy Business Centre\, New Parks\, Leicester\, South Entrance Glenfield Road\, Leicester\, LE3 6DN
CATEGORIES:Health & Safety
ATTACH;FMTTYPE=image/jpeg:https://rs-dt-training.co.uk/wp-content/uploads/SMHS4-e1739537114112.jpg
ORGANIZER;CN="RS Training":MAILTO:info@rs-dt-training.co.uk
END:VEVENT
BEGIN:VEVENT
DTSTART;TZID=UTC:20250610T080000
DTEND;TZID=UTC:20250610T170000
DTSTAMP:20260421T190329
CREATED:20250314T092305Z
LAST-MODIFIED:20250314T092305Z
UID:1118-1749542400-1749574800@rs-dt-training.co.uk
SUMMARY:SCHS Secondary Core Elements Health and Safety
DESCRIPTION:This course will familiarise you with the D&T Association CORE Level Training Standards covering risk assessment and enable you to complete an individual D&T H&S portfolio for accreditation through completion of 10 areas. The course is suitable for both teachers and technicians\, working in all material areas of the subject. \nThe course will extend and update your knowledge and understanding of health and safety and will have a range of activities covering: \n\nCore standards\nEnvironmental issues\nRisk Assessment\nLegal issues surrounding delivery of Design & Technology\nLEV\, COSHH\, PAT\, Maintenance etc.\n\nPlease note: there is no machine training on this course. \nACCREDITATION CERTIFICATE PRICE INCREASED BY DATA (as from March 1st 2025)\, £26.40 TO £30\, VAT INCLUDED.
URL:https://rs-dt-training.co.uk/course/schs-secondary-core-elements-health-and-safety-6/
LOCATION:Training Location\, The Herewoode Academy Business Centre\, New Parks\, Leicester\, South Entrance Glenfield Road\, Leicester\, LE3 6DN
CATEGORIES:Health & Safety
ATTACH;FMTTYPE=image/jpeg:https://rs-dt-training.co.uk/wp-content/uploads/SCHS2.jpg
ORGANIZER;CN="RS Training":MAILTO:info@rs-dt-training.co.uk
END:VEVENT
BEGIN:VEVENT
DTSTART;TZID=UTC:20250617T090000
DTEND;TZID=UTC:20250617T120000
DTSTAMP:20260421T190329
CREATED:20250314T093559Z
LAST-MODIFIED:20250314T093559Z
UID:1124-1750150800-1750161600@rs-dt-training.co.uk
SUMMARY:SCHSR Secondary Core Elements Health and Safety Refresher
DESCRIPTION:This Nationally accredited practical course will provide: \n\nTeachers\nTechnicians\nSupport staff/Premises Staff\n\nIn Design and Technology Departments ‘refresher’ training on the Specialist Level: SCHS Secondary Core Level Training (Refresher) \nThis course is suitable for all colleagues who have completed the Core Level Training Standards and the personal Health and Safety portfolio and whose Design and Technology Association accreditation is now due for renewal.  The course will extend and update your knowledge and understanding of health and safety and will include a range of activities\, including: \n\nChecking knowledge and understanding of H&S\nExtending knowledge and understanding of H&S\nEnsuring that risk assessments are ‘suitable and sufficient’\nExploring environmental issues\, incl. lighting\, heating\, dust\, noise and vibration\nInvestigating accidents\nMeasuring competence\nTeaching and learning strategies\n\n  \nPlease Note: Colleagues attending should bring their personal Health and Safety portfolios along as a reference to use during the course\, and there will be an opportunity to update it to meet the requirements for re-accreditation of the D&T Association Core Level Training Standards during the session. \nACCREDITATION CERTIFICATE PRICE INCREASED BY DATA (as from March 1st 2025)\, £26.40 TO £30\, VAT INCLUDED.
URL:https://rs-dt-training.co.uk/course/schsr-secondary-core-elements-health-and-safety-refresher-3/
LOCATION:Training Location\, The Herewoode Academy Business Centre\, New Parks\, Leicester\, South Entrance Glenfield Road\, Leicester\, LE3 6DN
CATEGORIES:Health & Safety
ATTACH;FMTTYPE=image/jpeg:https://rs-dt-training.co.uk/wp-content/uploads/SCHS3.jpg
ORGANIZER;CN="RS Training":MAILTO:info@rs-dt-training.co.uk
END:VEVENT
BEGIN:VEVENT
DTSTART;TZID=UTC:20250626T090000
DTEND;TZID=UTC:20250626T160000
DTSTAMP:20260421T190329
CREATED:20250314T095144Z
LAST-MODIFIED:20250314T095144Z
UID:1134-1750928400-1750953600@rs-dt-training.co.uk
SUMMARY:S12HS Essential Health and Safety For DT/Textiles/Food Technicians
DESCRIPTION:This Nationally accredited practical course will provide: \n\nTechnicians\nSupport staff/Premises Staff\n\nIn Design and Technology Departments ‘initial training’ on the Specialist Extension Level: S12 Essential H&S for Technicians \nS12HS introduces technicians to a range of essential knowledge\, practical skills and understanding. The activities will include: \n\n  H&S legislation\, documentation and responsibilities\n  Undertaking risk assessments and maintaining control measures\n  Providing effective support for the D&T curriculum\n  Understanding LEV system\n  Essential routine maintenance\n  Managing D&T resources\n  Managing the D&T environment\n\nThis is a workshop-based course and will offer technicians a choice from a range of essential practical skills that can be taught during the session. \nPlease note – Certification is valid for a period of 5 years. \nACCREDITATION CERTIFICATE PRICE INCREASED BY DATA (as from March 1st 2025)\, £26.40 TO £30\, VAT INCLUDED.
URL:https://rs-dt-training.co.uk/course/s12hs-essential-health-and-safety-for-dt-textiles-food-technicians/
LOCATION:Training Location\, The Herewoode Academy Business Centre\, New Parks\, Leicester\, South Entrance Glenfield Road\, Leicester\, LE3 6DN
CATEGORIES:Health & Safety
ATTACH;FMTTYPE=image/jpeg:https://rs-dt-training.co.uk/wp-content/uploads/RS-DT-Training-based-in-LEicester-18-scaled-e1739537838379.jpg
ORGANIZER;CN="RS Training":MAILTO:info@rs-dt-training.co.uk
END:VEVENT
END:VCALENDAR