BEGIN:VCALENDAR
VERSION:2.0
PRODID:-//RS Training - ECPv6.13.1//NONSGML v1.0//EN
CALSCALE:GREGORIAN
METHOD:PUBLISH
X-WR-CALNAME:RS Training
X-ORIGINAL-URL:https://rs-dt-training.co.uk
X-WR-CALDESC:Events for RS Training
REFRESH-INTERVAL;VALUE=DURATION:PT1H
X-Robots-Tag:noindex
X-PUBLISHED-TTL:PT1H
BEGIN:VTIMEZONE
TZID:UTC
BEGIN:STANDARD
TZOFFSETFROM:+0000
TZOFFSETTO:+0000
TZNAME:UTC
DTSTART:20250101T000000
END:STANDARD
END:VTIMEZONE
BEGIN:VEVENT
DTSTART;TZID=UTC:20250701T090000
DTEND;TZID=UTC:20250701T160000
DTSTAMP:20260421T173559
CREATED:20250314T100947Z
LAST-MODIFIED:20250616T141304Z
UID:1138-1751360400-1751385600@rs-dt-training.co.uk
SUMMARY:SMHS Secondary Materials Health and Safety
DESCRIPTION:This Nationally accredited practical course will provide: \n\nTeachers\nTechnicians\nSupport staff/Premises Staff\n\nIn Design and Technology Departments ‘initial training’ on the Specialist Level: SMHS Secondary Materials Health and Safety \nThis course will enable delegates to acquire H&S accreditation certification through a ‘hands on’ approach using the following… \n\nDrilling Machine\nSanding Machine\nPortable power tools (Drill & Sander)\nPower Fret Saw\nOff Hand Grinder\nHand Tools\nPlastics Moulding Equipment\nMortiser\n\nPlease note – Certification is valid for a period of 5 years.\nACCREDITATION CERTIFICATE PRICE INCREASED BY DATA (as from March 1st
URL:https://rs-dt-training.co.uk/course/smhs-secondary-materials-health-and-safety-12/
LOCATION:Training Location\, The Herewoode Academy Business Centre\, New Parks\, Leicester\, South Entrance Glenfield Road\, Leicester\, LE3 6DN
CATEGORIES:Health & Safety
ATTACH;FMTTYPE=image/jpeg:https://rs-dt-training.co.uk/wp-content/uploads/RS-DT-Training-based-in-Leicester-31-scaled-e1739537312607.jpg
ORGANIZER;CN="RS Training":MAILTO:info@rs-dt-training.co.uk
END:VEVENT
BEGIN:VEVENT
DTSTART;TZID=UTC:20250708T090000
DTEND;TZID=UTC:20250708T160000
DTSTAMP:20260421T173559
CREATED:20250314T101751Z
LAST-MODIFIED:20250314T101751Z
UID:1144-1751965200-1751990400@rs-dt-training.co.uk
SUMMARY:S7HS Safe use of Woodturning Lathes DISCOUNTED
DESCRIPTION:This Nationally accredited practical course will provide: \n\nTeachers\nTechnicians\nSupport staff/Premises Staff\n\nIn Design and Technology Departments ‘initial training’ on the Specialist Extension Level: S7HS Wood Turning Lathe \nDuring the day you will undertake a number of exercises\, including turning between centres and using faceplates and chucks. This course will familiarise teachers and technicians with the Design and Technology Association Specialist Extension Level Training Standards for the Wood Turning Lathe (S7HS) and prepare you to teach students how to turn safely. \nMachines to be used are Union Graduate and Axminster Jet wood turning lathes \nYou will receive by email\, a course pack covering current legislation and the knowledge\, skills and understanding required to safely use this range of woodworking machinery in schools. If you have recently completed the D&TA ‘Core’ Elements Training\, and have submitted your portfolio of evidence\, you will be able to add this unit to your D&TA accreditation. \nPlease note – Certification is valid for a period of 5 years.\nPlease Note – Certification is not required if you just want to come along and have some fun woodturning
URL:https://rs-dt-training.co.uk/course/s7hs-safe-use-of-woodturning-lathes-discounted-2/
LOCATION:Training Location\, The Herewoode Academy Business Centre\, New Parks\, Leicester\, South Entrance Glenfield Road\, Leicester\, LE3 6DN
CATEGORIES:Health & Safety
ATTACH;FMTTYPE=image/jpeg:https://rs-dt-training.co.uk/wp-content/uploads/S7HS2.jpg
ORGANIZER;CN="RS Training":MAILTO:info@rs-dt-training.co.uk
END:VEVENT
END:VCALENDAR