BEGIN:VCALENDAR
VERSION:2.0
PRODID:-//RS Training - ECPv6.13.1//NONSGML v1.0//EN
CALSCALE:GREGORIAN
METHOD:PUBLISH
X-WR-CALNAME:RS Training
X-ORIGINAL-URL:https://rs-dt-training.co.uk
X-WR-CALDESC:Events for RS Training
REFRESH-INTERVAL;VALUE=DURATION:PT1H
X-Robots-Tag:noindex
X-PUBLISHED-TTL:PT1H
BEGIN:VTIMEZONE
TZID:UTC
BEGIN:STANDARD
TZOFFSETFROM:+0000
TZOFFSETTO:+0000
TZNAME:UTC
DTSTART:20260101T000000
END:STANDARD
END:VTIMEZONE
BEGIN:VEVENT
DTSTART;TZID=UTC:20260113T090000
DTEND;TZID=UTC:20260113T160000
DTSTAMP:20260421T090652
CREATED:20251111T122542Z
LAST-MODIFIED:20251111T122542Z
UID:1415-1768294800-1768320000@rs-dt-training.co.uk
SUMMARY:SMHS Secondary Materials Health and Safety
DESCRIPTION:This Nationally accredited practical course will provide: \n\nTeachers\nTechnicians\nSupport staff/Premises Staff\n\nIn Design and Technology Departments ‘initial training’ on the Specialist Level: SMHS Secondary Materials Health and Safety \nThis course will enable delegates to acquire H&S accreditation certification through a ‘hands on’ approach using the following… \n\nDrilling Machine\nSanding Machine\nPortable power tools (Drill & Sander)\nPower Fret Saw\nOff Hand Grinder\nHand Tools\nPlastics Moulding Equipment\nMortiser\n\nPlease note – Certification is valid for a period of 5 years.
URL:https://rs-dt-training.co.uk/course/smhs-secondary-materials-health-and-safety-18/
LOCATION:Herewoode Academy\, New Parks\, Leicester LE36DN
CATEGORIES:Health & Safety
ATTACH;FMTTYPE=image/jpeg:https://rs-dt-training.co.uk/wp-content/uploads/SMHS4-e1739537114112.jpg
ORGANIZER;CN="RS Training":MAILTO:info@rs-dt-training.co.uk
END:VEVENT
BEGIN:VEVENT
DTSTART;TZID=UTC:20260115T090000
DTEND;TZID=UTC:20260115T160000
DTSTAMP:20260421T090652
CREATED:20251111T122915Z
LAST-MODIFIED:20251111T122915Z
UID:1418-1768467600-1768492800@rs-dt-training.co.uk
SUMMARY:SCHS Secondary Core Elements Health and Safety
DESCRIPTION:This course will familiarise you with the D&T Association CORE Level Training Standards covering risk assessment and enable you to complete an individual D&T H&S portfolio for accreditation through completion of 10 areas. The course is suitable for both teachers and technicians\, working in all material areas of the subject. \nThe course will extend and update your knowledge and understanding of health and safety and will have a range of activities covering: \n\nCore standards\nEnvironmental issues\nRisk Assessment\nLegal issues surrounding delivery of Design & Technology\nLEV\, COSHH\, PAT\, Maintenance etc.\n\nPlease note: there is no machine training on this course.
URL:https://rs-dt-training.co.uk/course/schs-secondary-core-elements-health-and-safety-10/
LOCATION:Herewoode Academy\, New Parks\, Leicester LE36DN
CATEGORIES:Health & Safety
ATTACH;FMTTYPE=image/jpeg:https://rs-dt-training.co.uk/wp-content/uploads/SCHS3.jpg
ORGANIZER;CN="RS Training":MAILTO:info@rs-dt-training.co.uk
END:VEVENT
END:VCALENDAR