BEGIN:VCALENDAR
VERSION:2.0
PRODID:-//RS Training - ECPv6.13.1//NONSGML v1.0//EN
CALSCALE:GREGORIAN
METHOD:PUBLISH
X-WR-CALNAME:RS Training
X-ORIGINAL-URL:https://rs-dt-training.co.uk
X-WR-CALDESC:Events for RS Training
REFRESH-INTERVAL;VALUE=DURATION:PT1H
X-Robots-Tag:noindex
X-PUBLISHED-TTL:PT1H
BEGIN:VTIMEZONE
TZID:UTC
BEGIN:STANDARD
TZOFFSETFROM:+0000
TZOFFSETTO:+0000
TZNAME:UTC
DTSTART:20260101T000000
END:STANDARD
END:VTIMEZONE
BEGIN:VEVENT
DTSTART;TZID=UTC:20260310T090000
DTEND;TZID=UTC:20260310T160000
DTSTAMP:20260421T062452
CREATED:20260107T162858Z
LAST-MODIFIED:20260107T162858Z
UID:1473-1773133200-1773158400@rs-dt-training.co.uk
SUMMARY:SCHS Secondary Core Elements Health and Safety
DESCRIPTION:This course will familiarise you with the D&T Association CORE Level Training Standards covering risk assessment and enable you to complete an individual D&T H&S portfolio for accreditation through completion of 10 areas. The course is suitable for both teachers and technicians\, working in all material areas of the subject. \nThe course will extend and update your knowledge and understanding of health and safety and will have a range of activities covering: \n\nCore standards\nEnvironmental issues\nRisk Assessment\nLegal issues surrounding delivery of Design & Technology\nLEV\, COSHH\, PAT\, Maintenance etc.\n\nPlease note: there is no machine training on this course.
URL:https://rs-dt-training.co.uk/course/schs-secondary-core-elements-health-and-safety-11/
LOCATION:Herewoode Academy\, New Parks\, Leicester LE36DN
CATEGORIES:Health & Safety
ATTACH;FMTTYPE=image/jpeg:https://rs-dt-training.co.uk/wp-content/uploads/SCHS3.jpg
ORGANIZER;CN="RS Training":MAILTO:info@rs-dt-training.co.uk
END:VEVENT
BEGIN:VEVENT
DTSTART;TZID=UTC:20260317T090000
DTEND;TZID=UTC:20260317T160000
DTSTAMP:20260421T062452
CREATED:20260107T163622Z
LAST-MODIFIED:20260107T163622Z
UID:1479-1773738000-1773763200@rs-dt-training.co.uk
SUMMARY:S12HS Essential Health and Safety for Technicians
DESCRIPTION:This Nationally accredited practical course will provide: \n\nTechnicians\nSupport staff/Premises Staff\n\nIn Design and Technology Departments ‘initial training’ on the Specialist Extension Level: S12 Essential H&S for Technicians \nS12HS introduces technicians to a range of essential knowledge\, practical skills and understanding. The activities will include: \n\n  H&S legislation\, documentation and responsibilities\n  Undertaking risk assessments and maintaining control measures\n  Providing effective support for the D&T curriculum\n  Understanding LEV system\n  Essential routine maintenance\n  Managing D&T resources\n  Managing the D&T environment\n\nThis is a workshop-based course and will offer technicians a choice from a range of essential practical skills that can be taught during the session. \nPlease note – Certification is valid for a period of 5 years.
URL:https://rs-dt-training.co.uk/course/s12hs-essential-health-and-safety-for-technicians-3/
LOCATION:Herewoode Academy\, New Parks\, Leicester LE36DN
CATEGORIES:Health & Safety
ATTACH;FMTTYPE=image/jpeg:https://rs-dt-training.co.uk/wp-content/uploads/SCHS1.jpg
ORGANIZER;CN="RS Training":MAILTO:info@rs-dt-training.co.uk
END:VEVENT
END:VCALENDAR