BEGIN:VCALENDAR
VERSION:2.0
PRODID:-//RS Training - ECPv6.13.1//NONSGML v1.0//EN
CALSCALE:GREGORIAN
METHOD:PUBLISH
X-WR-CALNAME:RS Training
X-ORIGINAL-URL:https://rs-dt-training.co.uk
X-WR-CALDESC:Events for RS Training
REFRESH-INTERVAL;VALUE=DURATION:PT1H
X-Robots-Tag:noindex
X-PUBLISHED-TTL:PT1H
BEGIN:VTIMEZONE
TZID:UTC
BEGIN:STANDARD
TZOFFSETFROM:+0000
TZOFFSETTO:+0000
TZNAME:UTC
DTSTART:20230101T000000
END:STANDARD
END:VTIMEZONE
BEGIN:VEVENT
DTSTART;TZID=UTC:20231115T090000
DTEND;TZID=UTC:20231115T120000
DTSTAMP:20260422T223413
CREATED:20231006T091352Z
LAST-MODIFIED:20231006T100922Z
UID:297-1700038800-1700049600@rs-dt-training.co.uk
SUMMARY:SCHSR Core Refresher
DESCRIPTION:This Nationally accredited practical course will provide: \n\nTeachers\nTechnicians\nSupport staff/Premises Staff\n\nIn Design and Technology Departments ‘initial training’ on the Specialist Level: SCHS Secondary Core Level Training (Refresher) \nThis course is suitable for all colleagues who have completed the Core Level Training Standards and the personal Health and Safety portfolio and whose Design and Technology Association accreditation is now due for renewal.  The course will extend and update your knowledge and understanding of health and safety and will include a range of activities\, including: \n\nChecking knowledge and understanding of H&S\nExtending knowledge and understanding of H&S\nEnsuring that risk assessments are ‘suitable and sufficient’\nExploring environmental issues\, incl. lighting\, heating\, dust\, noise and vibration\nInvestigating accidents\nMeasuring competence\nTeaching and learning strategies\n\n  \nPlease Note: Colleagues attending should bring their personal Health and Safety portfolios along as a reference to use during the course\, and there will be an opportunity to update it to meet the requirements for re-accreditation of the D&T Association Core Level Training Standards during the session. \nPLEASE NOTE CERTIFICATION IS VALID FOR 5 YEARS.
URL:https://rs-dt-training.co.uk/course/schsr-core-refresher-2/
LOCATION:Training Location\, The Herewoode Academy Business Centre\, New Parks\, Leicester\, South Entrance Glenfield Road\, Leicester\, LE3 6DN
CATEGORIES:Health & Safety
ATTACH;FMTTYPE=image/jpeg:https://rs-dt-training.co.uk/wp-content/uploads/SCHS2.jpg
END:VEVENT
END:VCALENDAR