BEGIN:VCALENDAR
VERSION:2.0
PRODID:-//RS Training - ECPv6.13.1//NONSGML v1.0//EN
CALSCALE:GREGORIAN
METHOD:PUBLISH
X-WR-CALNAME:RS Training
X-ORIGINAL-URL:https://rs-dt-training.co.uk
X-WR-CALDESC:Events for RS Training
REFRESH-INTERVAL;VALUE=DURATION:PT1H
X-Robots-Tag:noindex
X-PUBLISHED-TTL:PT1H
BEGIN:VTIMEZONE
TZID:UTC
BEGIN:STANDARD
TZOFFSETFROM:+0000
TZOFFSETTO:+0000
TZNAME:UTC
DTSTART:20250101T000000
END:STANDARD
END:VTIMEZONE
BEGIN:VEVENT
DTSTART;TZID=UTC:20250311T090000
DTEND;TZID=UTC:20250311T160000
DTSTAMP:20260422T001529
CREATED:20241118T065439Z
LAST-MODIFIED:20241219T164624Z
UID:967-1741683600-1741708800@rs-dt-training.co.uk
SUMMARY:SCHS Secondary Core Health and Safety
DESCRIPTION:This course will familiarise you with the D&T Association CORE Level Training Standards covering risk assessment and enable you to complete an individual D&T H&S portfolio for accreditation through completion of 10 areas. The course is suitable for both teachers and technicians\, working in all material areas of the subject. \nThe course will extend and update your knowledge and understanding of health and safety and will have a range of activities covering: \n\nCore standards\nEnvironmental issues\nRisk Assessment\nLegal issues surrounding delivery of Design & Technology\nLEV\, COSHH\, PAT\, Maintenance etc.\n\nPlease note: there is no machine training on this course. \nACCREDITATION CERTIFICATE PRICE INCREASED BY DATA (as from March 1st 2025)\, £26.40 TO £30\, VAT INCLUDED.
URL:https://rs-dt-training.co.uk/course/schs-secondary-core-health-and-safety/
LOCATION:Training Location\, The Herewoode Academy Business Centre\, New Parks\, Leicester\, South Entrance Glenfield Road\, Leicester\, LE3 6DN
CATEGORIES:Health & Safety
ATTACH;FMTTYPE=image/jpeg:https://rs-dt-training.co.uk/wp-content/uploads/SCHS1.jpg
ORGANIZER;CN="RS Training":MAILTO:info@rs-dt-training.co.uk
END:VEVENT
END:VCALENDAR