BEGIN:VCALENDAR
VERSION:2.0
PRODID:-//RS Training - ECPv6.13.1//NONSGML v1.0//EN
CALSCALE:GREGORIAN
METHOD:PUBLISH
X-WR-CALNAME:RS Training
X-ORIGINAL-URL:https://rs-dt-training.co.uk
X-WR-CALDESC:Events for RS Training
REFRESH-INTERVAL;VALUE=DURATION:PT1H
X-Robots-Tag:noindex
X-PUBLISHED-TTL:PT1H
BEGIN:VTIMEZONE
TZID:UTC
BEGIN:STANDARD
TZOFFSETFROM:+0000
TZOFFSETTO:+0000
TZNAME:UTC
DTSTART:20240101T000000
END:STANDARD
END:VTIMEZONE
BEGIN:VEVENT
DTSTART;TZID=UTC:20240613T090000
DTEND;TZID=UTC:20240613T160000
DTSTAMP:20260422T135220
CREATED:20240206T093810Z
LAST-MODIFIED:20240520T070903Z
UID:587-1718269200-1718294400@rs-dt-training.co.uk
SUMMARY:S9HS Portable Power Tools
DESCRIPTION:This Nationally accredited practical course will provide: \n\nTeachers\nTechnicians\nSupport staff/Premises Staff\n\nIn Design and Technology Departments ‘initial training’ on the Specialist Extension Level: S9HS Portable Power Tools \nDuring the day\, delegates will undertake a variety of practical exercises to prepare them to safely use a range of portable power tools at work. These include:  Angle grinder  Jigsaw  Portable circular Saws Radial Arm/Mitre saw  Biscuit jointer  Portable power plane and Routers \nYou will receive by email\, a course pack covering current legislation and the knowledge\, skills and understanding required to safely use this range of woodworking machinery in schools. If you have recently completed the D&TA ‘Core’ Elements Training\, and have submitted your portfolio of evidence\, you will be able to add this unit to your D&TA accreditation. \nPlease note – Certification is valid for a period of 5 years.
URL:https://rs-dt-training.co.uk/course/s9hs-portable-power-tools-130624/
LOCATION:Training Location\, The Herewoode Academy Business Centre\, New Parks\, Leicester\, South Entrance Glenfield Road\, Leicester\, LE3 6DN
CATEGORIES:Power Tools
ATTACH;FMTTYPE=image/jpeg:https://rs-dt-training.co.uk/wp-content/uploads/S9HS1.jpg
END:VEVENT
BEGIN:VEVENT
DTSTART;TZID=UTC:20240620T090000
DTEND;TZID=UTC:20240620T160000
DTSTAMP:20260422T135220
CREATED:20240206T094014Z
LAST-MODIFIED:20240206T094014Z
UID:593-1718874000-1718899200@rs-dt-training.co.uk
SUMMARY:S10HS Grinding and Sharpening
DESCRIPTION:This Nationally accredited practical course will provide: \n\nTeachers\nTechnicians\nSupport staff/Premises Staff\n\nIn Design and Technology Departments ‘initial training’ on the Specialist Extension Level: S10HS Sharpening and Grinding \nThis course will enable delegates to acquire H&S accreditation certification through a ‘hands on’ approach using the types of grinding machines that can be safely used in school workshops. \n\nThe types and grading of bench stones that can be used to sharpen hand and machine tools\, safety in the use of abrasive wheels\nThe hazards and risks arising from the use of abrasive wheels.\nHow to: assemble abrasive wheels correctly to make sure they are properly balanced and fit to use.\nHow to store\, handle and transport abrasive wheels.\nHow to inspect and test abrasive wheels for damage.\nAppropriate methods of dressing abrasive wheels.\nThe use of a range of bench stones\, including an understanding of sharpening angles and the use of honing guides.\nHow to identify defects in grindstones and the procedures for dealing with them to avoid accidents.\n\nPlease note – Certification is valid for a period of 5 years.
URL:https://rs-dt-training.co.uk/course/s10hs-grinding-and-sharpening-200624/
LOCATION:Training Location\, The Herewoode Academy Business Centre\, New Parks\, Leicester\, South Entrance Glenfield Road\, Leicester\, LE3 6DN
CATEGORIES:Power Tools
ATTACH;FMTTYPE=image/jpeg:https://rs-dt-training.co.uk/wp-content/uploads/S10HS1.jpg
END:VEVENT
BEGIN:VEVENT
DTSTART;TZID=UTC:20240625T090000
DTEND;TZID=UTC:20240625T160000
DTSTAMP:20260422T135220
CREATED:20240206T094117Z
LAST-MODIFIED:20240616T095101Z
UID:596-1719306000-1719331200@rs-dt-training.co.uk
SUMMARY:S1/S8HS Wood Saws and Planer Thicknesser Refresher
DESCRIPTION:This Nationally accredited practical course will provide: \n\nTeachers\nTechnicians\nSupport staff/Premises Staff \n\nIn Design and Technology Departments ‘initial training’ on the Specialist Extension Level: S1HS Wood saws and S8HS Planer Thicknesser Machines \nThe course is suitable if you require a new certificate on this range of machines. This is not a refresher course for those who already have certificates or whose certificates have recently expired. The course consists of practical exercises during the day.  Machines covered will include: \n\nCircular saw\nNarrow band saw\nRadial Arm/Chop Saw \nThe Combined Planer Thicknesser\n\nYou will receive by email\, a course pack covering current legislation and the knowledge\, skills and understanding required to safely use this range of woodworking machinery in schools. If you have recently completed the D&TA ‘Core’ Elements Training\, and have submitted your portfolio of evidence\, you will be able to add this unit to your D&TA accreditation. \nPlease note – Certification is valid for 5 years\n 
URL:https://rs-dt-training.co.uk/course/s1-s8hs-wood-saws-and-planer-thicknesser-refresher-250624/
LOCATION:Training Location\, The Herewoode Academy Business Centre\, New Parks\, Leicester\, South Entrance Glenfield Road\, Leicester\, LE3 6DN
CATEGORIES:Power Tools
ATTACH;FMTTYPE=image/jpeg:https://rs-dt-training.co.uk/wp-content/uploads/PLANER3.jpg
END:VEVENT
END:VCALENDAR