BEGIN:VCALENDAR
VERSION:2.0
PRODID:-//RS Training - ECPv6.13.1//NONSGML v1.0//EN
CALSCALE:GREGORIAN
METHOD:PUBLISH
X-ORIGINAL-URL:https://rs-dt-training.co.uk
X-WR-CALDESC:Events for RS Training
REFRESH-INTERVAL;VALUE=DURATION:PT1H
X-Robots-Tag:noindex
X-PUBLISHED-TTL:PT1H
BEGIN:VTIMEZONE
TZID:UTC
BEGIN:STANDARD
TZOFFSETFROM:+0000
TZOFFSETTO:+0000
TZNAME:UTC
DTSTART:20230101T000000
END:STANDARD
END:VTIMEZONE
BEGIN:VEVENT
DTSTART;TZID=UTC:20240322T090000
DTEND;TZID=UTC:20240322T160000
DTSTAMP:20260421T060353
CREATED:20240123T114909Z
LAST-MODIFIED:20240311T193137Z
UID:463-1711098000-1711123200@rs-dt-training.co.uk
SUMMARY:S10HS Grinding and Sharpening
DESCRIPTION:This Nationally accredited practical course will provide: \n\nTeachers\nTechnicians\nSupport staff/Premises Staff\n\nIn Design and Technology Departments ‘initial training’ on the Specialist Extension Level: S10HS Sharpening and Grinding \nThis course will enable delegates to acquire H&S accreditation certification through a ‘hands on’ approach using the types of grinding machines that can be safely used in school workshops. \n\nThe types and grading of bench stones that can be used to sharpen hand and machine tools\, safety in the use of abrasive wheels\nThe hazards and risks arising from the use of abrasive wheels.\nHow to: assemble abrasive wheels correctly to make sure they are properly balanced and fit to use.\nHow to store\, handle and transport abrasive wheels.\nHow to inspect and test abrasive wheels for damage.\nAppropriate methods of dressing abrasive wheels.\nThe use of a range of bench stones\, including an understanding of sharpening angles and the use of honing guides.\nHow to identify defects in grindstones and the procedures for dealing with them to avoid accidents.\n\nPlease note – Certification is valid for a period of 5 years.
URL:https://rs-dt-training.co.uk/course/s10hs-grinding-and-sharpening-220324/
LOCATION:Training Location\, The Herewoode Academy Business Centre\, New Parks\, Leicester\, South Entrance Glenfield Road\, Leicester\, LE3 6DN
CATEGORIES:Power Tools
ATTACH;FMTTYPE=image/jpeg:https://rs-dt-training.co.uk/wp-content/uploads/S10HS1.jpg
END:VEVENT
BEGIN:VEVENT
DTSTART;TZID=UTC:20240319T090000
DTEND;TZID=UTC:20240319T160000
DTSTAMP:20260421T060353
CREATED:20240123T114644Z
LAST-MODIFIED:20240123T124707Z
UID:457-1710838800-1710864000@rs-dt-training.co.uk
SUMMARY:S1/S8HS Wood Saws and Planer Thicknesser Refresher
DESCRIPTION:This Nationally accredited practical course will provide: \n\nTeachers\nTechnicians\nSupport staff/Premises Staff \n\nIn Design and Technology Departments ‘initial training’ on the Specialist Extension Level: S1HS Wood saws and S8HS Planer Thicknesser Machines \nThe course is suitable if you require a new certificate on this range of machines. This is not a refresher course for those who already have certificates or whose certificates have recently expired. The course consists of practical exercises during the day.  Machines covered will include: \n\nCircular saw\nNarrow band saw\nRadial Arm/Chop Saw \nThe Combined Planer Thicknesser\n\nYou will receive by email\, a course pack covering current legislation and the knowledge\, skills and understanding required to safely use this range of woodworking machinery in schools. If you have recently completed the D&TA ‘Core’ Elements Training\, and have submitted your portfolio of evidence\, you will be able to add this unit to your D&TA accreditation. \nPlease note – Certification is valid for 5 years\n 
URL:https://rs-dt-training.co.uk/course/s1-s8hs-wood-saws-and-planer-thicknesser-refresher-190324/
LOCATION:Training Location\, The Herewoode Academy Business Centre\, New Parks\, Leicester\, South Entrance Glenfield Road\, Leicester\, LE3 6DN
CATEGORIES:Power Tools
ATTACH;FMTTYPE=image/jpeg:https://rs-dt-training.co.uk/wp-content/uploads/PLANER3.jpg
END:VEVENT
BEGIN:VEVENT
DTSTART;TZID=UTC:20240305T090000
DTEND;TZID=UTC:20240305T160000
DTSTAMP:20260421T060353
CREATED:20240123T114227Z
LAST-MODIFIED:20240123T124411Z
UID:445-1709629200-1709654400@rs-dt-training.co.uk
SUMMARY:S9HS Portable Power Tools
DESCRIPTION:This Nationally accredited practical course will provide: \n\nTeachers\nTechnicians\nSupport staff/Premises Staff\n\nIn Design and Technology Departments ‘initial training’ on the Specialist Extension Level: S9HS Portable Power Tools \nDuring the day\, delegates will undertake a variety of practical exercises to prepare them to safely use a range of portable power tools at work. These include:  Angle grinder  Jigsaw  Portable circular Saws Radial Arm/Mitre saw  Biscuit jointer  Portable power plane and Routers \nYou will receive by email\, a course pack covering current legislation and the knowledge\, skills and understanding required to safely use this range of woodworking machinery in schools. If you have recently completed the D&TA ‘Core’ Elements Training\, and have submitted your portfolio of evidence\, you will be able to add this unit to your D&TA accreditation. \nPlease note – Certification is valid for a period of 5 years.
URL:https://rs-dt-training.co.uk/course/s9hs-portable-power-tools-050324/
LOCATION:Training Location\, The Herewoode Academy Business Centre\, New Parks\, Leicester\, South Entrance Glenfield Road\, Leicester\, LE3 6DN
CATEGORIES:Power Tools
ATTACH;FMTTYPE=image/jpeg:https://rs-dt-training.co.uk/wp-content/uploads/S9HS1.jpg
END:VEVENT
BEGIN:VEVENT
DTSTART;TZID=UTC:20240228T090000
DTEND;TZID=UTC:20240228T160000
DTSTAMP:20260421T060353
CREATED:20240123T113747Z
LAST-MODIFIED:20240123T124227Z
UID:439-1709110800-1709136000@rs-dt-training.co.uk
SUMMARY:S9HS Portable Power Tools
DESCRIPTION:This Nationally accredited practical course will provide: \n\nTeachers\nTechnicians\nSupport staff/Premises Staff\n\nIn Design and Technology Departments ‘initial training’ on the Specialist Extension Level: S9HS Portable Power Tools \nDuring the day\, delegates will undertake a variety of practical exercises to prepare them to safely use a range of portable power tools at work. These include:  Angle grinder  Jigsaw  Portable circular Saws Radial Arm/Mitre saw  Biscuit jointer  Portable power plane and Routers \nYou will receive by email\, a course pack covering current legislation and the knowledge\, skills and understanding required to safely use this range of woodworking machinery in schools. If you have recently completed the D&TA ‘Core’ Elements Training\, and have submitted your portfolio of evidence\, you will be able to add this unit to your D&TA accreditation. \nPlease note – Certification is valid for a period of 5 years.
URL:https://rs-dt-training.co.uk/course/s9hs-portable-power-tools-280224/
LOCATION:Training Location\, The Herewoode Academy Business Centre\, New Parks\, Leicester\, South Entrance Glenfield Road\, Leicester\, LE3 6DN
CATEGORIES:Power Tools
ATTACH;FMTTYPE=image/jpeg:https://rs-dt-training.co.uk/wp-content/uploads/S9HS1.jpg
END:VEVENT
BEGIN:VEVENT
DTSTART;TZID=UTC:20240227T090000
DTEND;TZID=UTC:20240227T160000
DTSTAMP:20260421T060353
CREATED:20240123T113619Z
LAST-MODIFIED:20240123T124140Z
UID:436-1709024400-1709049600@rs-dt-training.co.uk
SUMMARY:S1/S8HS Wood Saws and Planer Thicknesser Refresher
DESCRIPTION:This Nationally accredited practical course will provide: \n\nTeachers\nTechnicians\nSupport staff/Premises Staff \n\nIn Design and Technology Departments ‘initial training’ on the Specialist Extension Level: S1HS Wood saws and S8HS Planer Thicknesser Machines \nThe course is suitable if you require a new certificate on this range of machines. This is not a refresher course for those who already have certificates or whose certificates have recently expired. The course consists of practical exercises during the day.  Machines covered will include: \n\nCircular saw\nNarrow band saw\nRadial Arm/Chop Saw \nThe Combined Planer Thicknesser\n\nYou will receive by email\, a course pack covering current legislation and the knowledge\, skills and understanding required to safely use this range of woodworking machinery in schools. If you have recently completed the D&TA ‘Core’ Elements Training\, and have submitted your portfolio of evidence\, you will be able to add this unit to your D&TA accreditation. \nPlease note – Certification is valid for 5 years\n 
URL:https://rs-dt-training.co.uk/course/s1-s8hs-wood-saws-and-planer-thicknesser-refresher-270224/
LOCATION:Training Location\, The Herewoode Academy Business Centre\, New Parks\, Leicester\, South Entrance Glenfield Road\, Leicester\, LE3 6DN
CATEGORIES:Power Tools
ATTACH;FMTTYPE=image/jpeg:https://rs-dt-training.co.uk/wp-content/uploads/PLANER3.jpg
END:VEVENT
BEGIN:VEVENT
DTSTART;TZID=UTC:20231128T090000
DTEND;TZID=UTC:20231129T160000
DTSTAMP:20260421T060353
CREATED:20231006T091508Z
LAST-MODIFIED:20231006T101403Z
UID:305-1701162000-1701273600@rs-dt-training.co.uk
SUMMARY:S1/S8HS Wood Saws and Planer Thicknesser 2 Day
DESCRIPTION:This Nationally accredited practical course will provide: \n\nTeachers\nTechnicians\nSupport staff/Premises Staff\n\nIn Design and Technology Departments ‘initial training’ on the Specialist Extension Level: S1HS Wood saws and S8HS Planer Thicknesser Machines \nThe course is suitable if you require a new certificate on this range of machines. This is not a refresher course for those who already have certificates or whose certificates have recently expired. The course consists of practical exercises during the day.  Machines covered will include: \n\nCircular saw\nNarrow band saw\nRadial Arm/Chop Saw\nThe Combined Planer Thicknesser\n\nYou will receive by email\, a course pack covering current legislation and the knowledge\, skills and understanding required to safely use this range of woodworking machinery in schools. If you have recently completed the D&TA ‘Core’ Elements Training\, and have submitted your portfolio of evidence\, you will be able to add this unit to your D&TA accreditation. \nPlease note – Certification is valid for 5 years
URL:https://rs-dt-training.co.uk/course/s1-s8hs-wood-saws-and-planer-thicknesser-2-day/
LOCATION:Training Location\, The Herewoode Academy Business Centre\, New Parks\, Leicester\, South Entrance Glenfield Road\, Leicester\, LE3 6DN
CATEGORIES:Power Tools
ATTACH;FMTTYPE=image/jpeg:https://rs-dt-training.co.uk/wp-content/uploads/PLANER2.jpg
END:VEVENT
BEGIN:VEVENT
DTSTART;TZID=UTC:20231114T090000
DTEND;TZID=UTC:20231114T160000
DTSTAMP:20260421T060353
CREATED:20231006T091337Z
LAST-MODIFIED:20231006T100740Z
UID:295-1699952400-1699977600@rs-dt-training.co.uk
SUMMARY:S10HS Grinding and Sharpening
DESCRIPTION:This Nationally accredited practical course will provide: \n\nTeachers\nTechnicians\nSupport staff/Premises Staff\n\nIn Design and Technology Departments ‘initial training’ on the Specialist Extension Level: S10HS Sharpening and Grinding \nThis course will enable delegates to acquire H&S accreditation certification through a ‘hands on’ approach using the types of grinding machines that can be safely used in school workshops. \n\nThe types and grading of bench stones that can be used to sharpen hand and machine tools\, safety in the use of abrasive wheels\nThe hazards and risks arising from the use of abrasive wheels.\nHow to: assemble abrasive wheels correctly to make sure they are properly balanced and fit to use.\nHow to store\, handle and transport abrasive wheels.\nHow to inspect and test abrasive wheels for damage.\nAppropriate methods of dressing abrasive wheels.\nThe use of a range of bench stones\, including an understanding of sharpening angles and the use of honing guides.\nHow to identify defects in grindstones and the procedures for dealing with them to avoid accidents.\n\nPlease note – Certification is valid for a period of 5 years.
URL:https://rs-dt-training.co.uk/course/s10hs-grinding-and-sharpening-2/
LOCATION:Training Location\, The Herewoode Academy Business Centre\, New Parks\, Leicester\, South Entrance Glenfield Road\, Leicester\, LE3 6DN
CATEGORIES:Power Tools
ATTACH;FMTTYPE=image/jpeg:https://rs-dt-training.co.uk/wp-content/uploads/S10HS1.jpg
END:VEVENT
BEGIN:VEVENT
DTSTART;TZID=UTC:20231109T090000
DTEND;TZID=UTC:20231109T160000
DTSTAMP:20260421T060353
CREATED:20231006T091322Z
LAST-MODIFIED:20231006T100625Z
UID:293-1699520400-1699545600@rs-dt-training.co.uk
SUMMARY:S9HS Portable Power Tools
DESCRIPTION:This Nationally accredited practical course will provide: \n\nTeachers\nTechnicians\nSupport staff/Premises Staff\n\nIn Design and Technology Departments ‘initial training’ on the Specialist Extension Level: S9HS Portable Power Tools \nDuring the day\, delegates will undertake a variety of practical exercises to prepare them to safely use a range of portable power tools at work. These include:  Angle grinder  Jigsaw  Portable circular Saws Radial Arm/Mitre saw  Biscuit jointer  Portable power plane and Routers \nYou will receive by email\, a course pack covering current legislation and the knowledge\, skills and understanding required to safely use this range of woodworking machinery in schools. If you have recently completed the D&TA ‘Core’ Elements Training\, and have submitted your portfolio of evidence\, you will be able to add this unit to your D&TA accreditation. \nPlease note – Certification is valid for a period of 5 years.
URL:https://rs-dt-training.co.uk/course/s9hs-portable-power-tools-2/
LOCATION:Training Location\, The Herewoode Academy Business Centre\, New Parks\, Leicester\, South Entrance Glenfield Road\, Leicester\, LE3 6DN
CATEGORIES:Power Tools
ATTACH;FMTTYPE=image/jpeg:https://rs-dt-training.co.uk/wp-content/uploads/S9HS1.jpg
END:VEVENT
BEGIN:VEVENT
DTSTART;TZID=UTC:20231102T090000
DTEND;TZID=UTC:20231102T160000
DTSTAMP:20260421T060353
CREATED:20231006T091252Z
LAST-MODIFIED:20231006T100336Z
UID:289-1698915600-1698940800@rs-dt-training.co.uk
SUMMARY:S1/S8HS Wood Saws and Planer Thicknesser Refresher
DESCRIPTION:This Nationally accredited practical course will provide: \n\nTeachers\nTechnicians\nSupport staff/Premises Staff \n\nIn Design and Technology Departments ‘initial training’ on the Specialist Extension Level: S1HS Wood saws and S8HS Planer Thicknesser Machines \nThe course is suitable if you require a new certificate on this range of machines. This is not a refresher course for those who already have certificates or whose certificates have recently expired. The course consists of practical exercises during the day.  Machines covered will include: \n\nCircular saw\nNarrow band saw\nRadial Arm/Chop Saw \nThe Combined Planer Thicknesser\n\nYou will receive by email\, a course pack covering current legislation and the knowledge\, skills and understanding required to safely use this range of woodworking machinery in schools. If you have recently completed the D&TA ‘Core’ Elements Training\, and have submitted your portfolio of evidence\, you will be able to add this unit to your D&TA accreditation. \nPlease note – Certification is valid for 5 years\n 
URL:https://rs-dt-training.co.uk/course/s1-s8hs-wood-saws-and-planer-thicknesser-refresher/
LOCATION:Training Location\, The Herewoode Academy Business Centre\, New Parks\, Leicester\, South Entrance Glenfield Road\, Leicester\, LE3 6DN
CATEGORIES:Power Tools
ATTACH;FMTTYPE=image/jpeg:https://rs-dt-training.co.uk/wp-content/uploads/PLANER3.jpg
END:VEVENT
BEGIN:VEVENT
DTSTART;TZID=UTC:20231030T090000
DTEND;TZID=UTC:20231030T160000
DTSTAMP:20260421T060353
CREATED:20231005T151305Z
LAST-MODIFIED:20231006T093440Z
UID:270-1698656400-1698681600@rs-dt-training.co.uk
SUMMARY:S10HS Grinding and Sharpening
DESCRIPTION:This Nationally accredited practical course will provide: \n\nTeachers\nTechnicians\nSupport staff/Premises Staff \n\nIn Design and Technology Departments ‘initial training’ on the Specialist Extension Level: S10HS Sharpening and Grinding \nThis course will enable delegates to acquire H&S accreditation certification through a ‘hands on’ approach using the types of grinding machines that can be safely used in school workshops.  \n\n The types and grading of bench stones that can be used to sharpen hand and machine tools\, safety in the use of abrasive wheels\n The hazards and risks arising from the use of abrasive wheels.\n How to: assemble abrasive wheels correctly to make sure they are properly balanced and fit to use. \n How to store\, handle and transport abrasive wheels. \n How to inspect and test abrasive wheels for damage. \n Appropriate methods of dressing abrasive wheels.\nThe use of a range of bench stones\, including an understanding of sharpening angles and the use of honing guides.\nHow to identify defects in grindstones and the procedures for dealing with them to avoid accidents.\n\nPlease note – Certification is valid for a period of 5 years.  \n 
URL:https://rs-dt-training.co.uk/course/s10hs-grinding-and-sharpening/
LOCATION:Training Location\, The Herewoode Academy Business Centre\, New Parks\, Leicester\, South Entrance Glenfield Road\, Leicester\, LE3 6DN
CATEGORIES:Power Tools
ATTACH;FMTTYPE=image/jpeg:https://rs-dt-training.co.uk/wp-content/uploads/S10HS2.jpg
END:VEVENT
BEGIN:VEVENT
DTSTART;TZID=UTC:20231012T090000
DTEND;TZID=UTC:20231012T160000
DTSTAMP:20260421T060353
CREATED:20231005T151240Z
LAST-MODIFIED:20231006T093248Z
UID:268-1697101200-1697126400@rs-dt-training.co.uk
SUMMARY:S9HS Portable Power Tools
DESCRIPTION:This Nationally accredited practical course will provide: \n\nTeachers\nTechnicians\nSupport staff/Premises Staff \n\nIn Design and Technology Departments ‘initial training’ on the Specialist Extension Level: S9HS Portable Power Tools \nDuring the day\, delegates will undertake a variety of practical exercises to prepare them to safely use a range of portable power tools at work. These include:  Angle grinder  Jigsaw  Portable circular Saws Radial Arm/Mitre saw  Biscuit jointer  Portable power plane and Routers \nYou will receive by email\, a course pack covering current legislation and the knowledge\, skills and understanding required to safely use this range of woodworking machinery in schools. If you have recently completed the D&TA ‘Core’ Elements Training\, and have submitted your portfolio of evidence\, you will be able to add this unit to your D&TA accreditation. \nPlease note – Certification is valid for a period of 5 years.  \n 
URL:https://rs-dt-training.co.uk/course/s9hs-portable-power-tools/
LOCATION:Training Location\, The Herewoode Academy Business Centre\, New Parks\, Leicester\, South Entrance Glenfield Road\, Leicester\, LE3 6DN
CATEGORIES:Power Tools
ATTACH;FMTTYPE=image/jpeg:https://rs-dt-training.co.uk/wp-content/uploads/S9HS2.jpg
END:VEVENT
END:VCALENDAR