BEGIN:VCALENDAR
VERSION:2.0
PRODID:-//RS Training - ECPv6.13.1//NONSGML v1.0//EN
CALSCALE:GREGORIAN
METHOD:PUBLISH
X-ORIGINAL-URL:https://rs-dt-training.co.uk
X-WR-CALDESC:Events for RS Training
REFRESH-INTERVAL;VALUE=DURATION:PT1H
X-Robots-Tag:noindex
X-PUBLISHED-TTL:PT1H
BEGIN:VTIMEZONE
TZID:UTC
BEGIN:STANDARD
TZOFFSETFROM:+0000
TZOFFSETTO:+0000
TZNAME:UTC
DTSTART:20250101T000000
END:STANDARD
END:VTIMEZONE
BEGIN:VEVENT
DTSTART;TZID=UTC:20251002T090000
DTEND;TZID=UTC:20251002T160000
DTSTAMP:20260421T112901
CREATED:20250608T122658Z
LAST-MODIFIED:20250917T151418Z
UID:1230-1759395600-1759420800@rs-dt-training.co.uk
SUMMARY:S1HS Safe us of Wood Sawing machines
DESCRIPTION:This Nationally accredited practical course will provide: \n\nTeachers\nTechnicians\nSupport staff/Premises Staff\n\nIn Design and Technology Departments ‘initial training’ on the Specialist Extension Level: S1HS WOOD SAWING MACHINES \nThe course is suitable if you require a new certificate on this range of machines. This is not a refresher course for those who already have certificates or whose certificates have recently expired. The course consists of practical exercises during the day. \nMachines covered will include: \n\nCircular saw\nNarrow band saw\nRadial Arm/Chop Saw\n\nIf you have recently completed the D&TA ‘Core’ Elements Trai and have submitted your portfolio of evidence for accreditation\, you will be able to add this unit to your D&TA accreditation. \nPlease note – Certification is valid for a period of 5 years.  
URL:https://rs-dt-training.co.uk/course/s1hs-safe-us-of-wood-sawing-machines/
LOCATION:Herewoode Academy\, New Parks\, Leicester LE36DN
CATEGORIES:Woodwork
ATTACH;FMTTYPE=image/jpeg:https://rs-dt-training.co.uk/wp-content/uploads/RS-DT-Training-based-in-Leicester-21-scaled-e1717516204945.jpg
ORGANIZER;CN="RS Training":MAILTO:info@rs-dt-training.co.uk
END:VEVENT
BEGIN:VEVENT
DTSTART;TZID=UTC:20251014T090000
DTEND;TZID=UTC:20251014T160000
DTSTAMP:20260421T112901
CREATED:20250608T123549Z
LAST-MODIFIED:20250910T120253Z
UID:1239-1760432400-1760457600@rs-dt-training.co.uk
SUMMARY:S1/S8HSR  Safe use of wood sawing machines and planer thicknesser refresher
DESCRIPTION:This course will enable delegates to refresh their H&S accreditation certification through a ‘hands \non’ approach. The course will cover the areas of S1HS and S8HS and will involve practical \nexperience in the use of a circular saw\, radial arm saw\, narrow band saw and combined \nplaner-thicknesser.  Delegates will receive a course pack covering current legislation and the \nknowledge\, skills and understanding required to safely use this range of woodworking \nmachinery in schools. \n  \nAll the activities conform to the current D&T Association Training Standards.
URL:https://rs-dt-training.co.uk/course/s1-s8hsr-safe-use-of-wood-sawing-machines-and-planer-thicknesser-refresher/
LOCATION:Herewoode Academy\, New Parks\, Leicester LE36DN
CATEGORIES:Woodwork
ATTACH;FMTTYPE=image/jpeg:https://rs-dt-training.co.uk/wp-content/uploads/PLANER3.jpg
ORGANIZER;CN="RS Training":MAILTO:info@rs-dt-training.co.uk
END:VEVENT
BEGIN:VEVENT
DTSTART;TZID=UTC:20251028T090000
DTEND;TZID=UTC:20251028T160000
DTSTAMP:20260421T112901
CREATED:20250608T125310Z
LAST-MODIFIED:20250608T125929Z
UID:1252-1761642000-1761667200@rs-dt-training.co.uk
SUMMARY:SMHS Secondary Materials Health and Safety
DESCRIPTION:This Nationally accredited practical course will provide: \n\nTeachers\nTechnicians\nSupport staff/Premises Staff\n\nIn Design and Technology Departments ‘initial training’ on the Specialist Level: SMHS Secondary Materials Health and Safety \nThis course will enable delegates to acquire H&S accreditation certification through a ‘hands on’ approach using the following… \n\nDrilling Machine\nSanding Machine\nPortable power tools (Drill & Sander)\nPower Fret Saw\nOff Hand Grinder\nHand Tools\nPlastics Moulding Equipment\nMortiser\n\nPlease note – Certification is valid for a period of 5 years.
URL:https://rs-dt-training.co.uk/course/smhs-secondary-materials-health-and-safety-15/
LOCATION:Herewoode Academy\, New Parks\, Leicester LE36DN
CATEGORIES:Woodwork
ATTACH;FMTTYPE=image/jpeg:https://rs-dt-training.co.uk/wp-content/uploads/RS-DT-Training-based-in-Leicester-31-scaled-e1739537312607.jpg
ORGANIZER;CN="RS Training":MAILTO:info@rs-dt-training.co.uk
END:VEVENT
END:VCALENDAR