BEGIN:VCALENDAR
VERSION:2.0
PRODID:-//RS Training - ECPv6.13.1//NONSGML v1.0//EN
CALSCALE:GREGORIAN
METHOD:PUBLISH
X-WR-CALNAME:RS Training
X-ORIGINAL-URL:https://rs-dt-training.co.uk
X-WR-CALDESC:Events for RS Training
REFRESH-INTERVAL;VALUE=DURATION:PT1H
X-Robots-Tag:noindex
X-PUBLISHED-TTL:PT1H
BEGIN:VTIMEZONE
TZID:UTC
BEGIN:STANDARD
TZOFFSETFROM:+0000
TZOFFSETTO:+0000
TZNAME:UTC
DTSTART:20260101T000000
END:STANDARD
END:VTIMEZONE
BEGIN:VEVENT
DTSTART;TZID=UTC:20260303T090000
DTEND;TZID=UTC:20260303T160000
DTSTAMP:20260421T043945
CREATED:20260107T162154Z
LAST-MODIFIED:20260107T162322Z
UID:1466-1772528400-1772553600@rs-dt-training.co.uk
SUMMARY:S1HS Wood Sawing Machines
DESCRIPTION:This Nationally accredited practical course will provide: \n\nTeachers\nTechnicians\nSupport staff/Premises Staff\n\nIn Design and Technology Departments ‘initial training’ on the Specialist Extension Level: S1HS WOOD SAWING MACHINES \nThe course is suitable if you require a new certificate on this range of machines. This is not a refresher course for those who already have certificates or whose certificates have recently expired. The course consists of practical exercises during the day. \nMachines covered will include: \n\nCircular saw\nNarrow band saw\nRadial Arm/Chop Saw\n\nIf you have recently completed the D&TA ‘Core’ Elements Trai and have submitted your portfolio of evidence for accreditation\, you will be able to add this unit to your D&TA accreditation. \nPlease note – Certification is valid for a period of 5 years.
URL:https://rs-dt-training.co.uk/course/s1hs-wood-sawing-machines-5/
LOCATION:Herewoode Academy\, New Parks\, Leicester LE36DN
CATEGORIES:Woodwork
ATTACH;FMTTYPE=image/jpeg:https://rs-dt-training.co.uk/wp-content/uploads/S9HS2.jpg
ORGANIZER;CN="RS Training":MAILTO:info@rs-dt-training.co.uk
END:VEVENT
BEGIN:VEVENT
DTSTART;TZID=UTC:20260305T090000
DTEND;TZID=UTC:20260305T160000
DTSTAMP:20260421T043945
CREATED:20260107T162544Z
LAST-MODIFIED:20260107T162544Z
UID:1470-1772701200-1772726400@rs-dt-training.co.uk
SUMMARY:SMHS Secondary Materials Health and Safety
DESCRIPTION:This Nationally accredited practical course will provide: \n\nTeachers\nTechnicians\nSupport staff/Premises Staff\n\nIn Design and Technology Departments ‘initial training’ on the Specialist Level: SMHS Secondary Materials Health and Safety \nThis course will enable delegates to acquire H&S accreditation certification through a ‘hands on’ approach using the following… \n\nDrilling Machine\nSanding Machine\nPortable power tools (Drill & Sander)\nPower Fret Saw\nOff Hand Grinder\nHand Tools\nPlastics Moulding Equipment\nMortiser\n\nPlease note – Certification is valid for a period of 5 years.
URL:https://rs-dt-training.co.uk/course/smhs-secondary-materials-health-and-safety-20/
LOCATION:Herewoode Academy\, New Parks\, Leicester LE36DN
CATEGORIES:Woodwork
ATTACH;FMTTYPE=image/jpeg:https://rs-dt-training.co.uk/wp-content/uploads/SMHS4-e1739537114112.jpg
ORGANIZER;CN="RS Training":MAILTO:info@rs-dt-training.co.uk
END:VEVENT
BEGIN:VEVENT
DTSTART;TZID=UTC:20260312T090000
DTEND;TZID=UTC:20260312T160000
DTSTAMP:20260421T043945
CREATED:20260107T163219Z
LAST-MODIFIED:20260107T163219Z
UID:1476-1773306000-1773331200@rs-dt-training.co.uk
SUMMARY:S1/S8HSR Safe use of wood sawing machines and planer thicknesser refresher
DESCRIPTION:This course will enable delegates to refresh their H&S accreditation certification through a ‘hands \non’ approach. The course will cover the areas of S1HS and S8HS and will involve practical \nexperience in the use of a circular saw\, radial arm saw\, narrow band saw and combined \nplaner-thicknesser.  Delegates will receive a course pack covering current legislation and the \nknowledge\, skills and understanding required to safely use this range of woodworking \nmachinery in schools. \n  \nAll the activities conform to the current D&T Association Training Standards.
URL:https://rs-dt-training.co.uk/course/s1-s8hsr-safe-use-of-wood-sawing-machines-and-planer-thicknesser-refresher-3/
LOCATION:Herewoode Academy\, New Parks\, Leicester LE36DN
CATEGORIES:Woodwork
ATTACH;FMTTYPE=image/jpeg:https://rs-dt-training.co.uk/wp-content/uploads/PLANER3.jpg
ORGANIZER;CN="RS Training":MAILTO:info@rs-dt-training.co.uk
END:VEVENT
BEGIN:VEVENT
DTSTART;TZID=UTC:20260324T090000
DTEND;TZID=UTC:20260324T160000
DTSTAMP:20260421T043945
CREATED:20260107T163948Z
LAST-MODIFIED:20260107T163948Z
UID:1482-1774342800-1774368000@rs-dt-training.co.uk
SUMMARY:S7HS Safe Use Of Wood Turning Lathes
DESCRIPTION:This Nationally accredited practical course will provide: \n\nTeachers\nTechnicians\nSupport staff/Premises Staff\n\nIn Design and Technology Departments ‘initial training’ on the Specialist Extension Level: S7HS Wood Turning Lathe \nDuring the day you will undertake a number of exercises\, including turning between centres and using faceplates and chucks. This course will familiarise teachers and technicians with the Design and Technology Association Specialist Extension Level Training Standards for the Wood Turning Lathe (S7HS) and prepare you to teach students how to turn safely. \nMachines to be used are Union Graduate and Axminster Jet wood turning lathes \nYou will receive by email\, a course pack covering current legislation and the knowledge\, skills and understanding required to safely use this range of woodworking machinery in schools. If you have recently completed the D&TA ‘Core’ Elements Training\, and have submitted your portfolio of evidence\, you will be able to add this unit to your D&TA accreditation. \nPlease note – Certification is valid for a period of 5 years.\nPlease also Note – There is no requirement to pay the accreditation if you just want to do some woodturning\, just book a place and come along and have some fun.
URL:https://rs-dt-training.co.uk/course/s7hs-safe-use-of-wood-turning-lathes/
LOCATION:Herewoode Academy\, New Parks\, Leicester LE36DN
CATEGORIES:Woodwork
ATTACH;FMTTYPE=image/jpeg:https://rs-dt-training.co.uk/wp-content/uploads/S7HS2.jpg
ORGANIZER;CN="RS Training":MAILTO:info@rs-dt-training.co.uk
END:VEVENT
END:VCALENDAR