BEGIN:VCALENDAR
VERSION:2.0
PRODID:-//RS Training - ECPv6.13.1//NONSGML v1.0//EN
CALSCALE:GREGORIAN
METHOD:PUBLISH
X-WR-CALNAME:RS Training
X-ORIGINAL-URL:https://rs-dt-training.co.uk
X-WR-CALDESC:Events for RS Training
REFRESH-INTERVAL;VALUE=DURATION:PT1H
X-Robots-Tag:noindex
X-PUBLISHED-TTL:PT1H
BEGIN:VTIMEZONE
TZID:UTC
BEGIN:STANDARD
TZOFFSETFROM:+0000
TZOFFSETTO:+0000
TZNAME:UTC
DTSTART:20250101T000000
END:STANDARD
END:VTIMEZONE
BEGIN:VEVENT
DTSTART;TZID=UTC:20250319T090000
DTEND;TZID=UTC:20250320T160000
DTSTAMP:20260421T220707
CREATED:20241118T070935Z
LAST-MODIFIED:20241219T164401Z
UID:976-1742374800-1742486400@rs-dt-training.co.uk
SUMMARY:S1/S8HS Woodsaws and Planer thicknesser 2 day
DESCRIPTION:This course will enable delegates to acquire H&S accreditation certification through a ‘hands \non’ approach. The course will cover the areas of S1HS and S8HS and will involve practical \nexperience in the use of a circular saw\, radial arm saw\, narrow band saw and combined \nplaner-thicknesser.  Delegates will receive a course pack covering current legislation and the \nknowledge\, skills and understanding required to safely use this range of woodworking \nmachinery in schools. \n  \nAll the activities conform to the current D&T Association Training Standards. \nACCREDITATION CERTIFICATE PRICE INCREASED BY DATA (as from March 1st 2025)\, £26.40 TO £30\, VAT INCLUDED.
URL:https://rs-dt-training.co.uk/course/s1-s8hs-woodsaws-and-planer-thicknesser-2-day/
LOCATION:Training Location\, The Herewoode Academy Business Centre\, New Parks\, Leicester\, South Entrance Glenfield Road\, Leicester\, LE3 6DN
CATEGORIES:Woodwork
ATTACH;FMTTYPE=image/jpeg:https://rs-dt-training.co.uk/wp-content/uploads/PLANER1.jpg
ORGANIZER;CN="RS Training":MAILTO:info@rs-dt-training.co.uk
END:VEVENT
END:VCALENDAR