BEGIN:VCALENDAR
VERSION:2.0
PRODID:-//RS Training - ECPv6.13.1//NONSGML v1.0//EN
CALSCALE:GREGORIAN
METHOD:PUBLISH
X-ORIGINAL-URL:https://rs-dt-training.co.uk
X-WR-CALDESC:Events for RS Training
REFRESH-INTERVAL;VALUE=DURATION:PT1H
X-Robots-Tag:noindex
X-PUBLISHED-TTL:PT1H
BEGIN:VTIMEZONE
TZID:UTC
BEGIN:STANDARD
TZOFFSETFROM:+0000
TZOFFSETTO:+0000
TZNAME:UTC
DTSTART:20260101T000000
END:STANDARD
END:VTIMEZONE
BEGIN:VEVENT
DTSTART;TZID=UTC:20260407T090000
DTEND;TZID=UTC:20260407T160000
DTSTAMP:20260421T044201
CREATED:20260203T145211Z
LAST-MODIFIED:20260220T110553Z
UID:1502-1775552400-1775577600@rs-dt-training.co.uk
SUMMARY:SMHS Secondary Materials Health and Safety
DESCRIPTION:This Nationally accredited practical course will provide: \n\nTeachers\nTechnicians\nSupport staff/Premises Staff\n\nIn Design and Technology Departments ‘initial training’ on the Specialist Level: SMHS Secondary Materials Health and Safety \nThis course will enable delegates to acquire H&S accreditation certification through a ‘hands on’ approach using the following… \n\nDrilling Machine\nSanding Machine\nPortable power tools (Drill & Sander)\nPower Fret Saw\nOff Hand Grinder\nHand Tools\nPlastics Moulding Equipment\nMortiser\n\nPlease note – Certification is valid for a period of 5 years.
URL:https://rs-dt-training.co.uk/course/smhs-secondary-materials-health-and-safety-21/
LOCATION:Herewoode Academy\, New Parks\, Leicester LE36DN
CATEGORIES:Woodwork
ATTACH;FMTTYPE=image/jpeg:https://rs-dt-training.co.uk/wp-content/uploads/RS-DT-Training-based-in-Leicester-29-scaled.jpg
ORGANIZER;CN="RS Training":MAILTO:info@rs-dt-training.co.uk
END:VEVENT
END:VCALENDAR