BEGIN:VCALENDAR
VERSION:2.0
PRODID:-//RS Training - ECPv6.13.1//NONSGML v1.0//EN
CALSCALE:GREGORIAN
METHOD:PUBLISH
X-WR-CALNAME:RS Training
X-ORIGINAL-URL:https://rs-dt-training.co.uk
X-WR-CALDESC:Events for RS Training
REFRESH-INTERVAL;VALUE=DURATION:PT1H
X-Robots-Tag:noindex
X-PUBLISHED-TTL:PT1H
BEGIN:VTIMEZONE
TZID:UTC
BEGIN:STANDARD
TZOFFSETFROM:+0000
TZOFFSETTO:+0000
TZNAME:UTC
DTSTART:20260101T000000
END:STANDARD
END:VTIMEZONE
BEGIN:VEVENT
DTSTART;TZID=UTC:20260528T090000
DTEND;TZID=UTC:20260528T160000
DTSTAMP:20260421T060349
CREATED:20260313T101327Z
LAST-MODIFIED:20260313T101327Z
UID:1558-1779958800-1779984000@rs-dt-training.co.uk
SUMMARY:S7HS Safe Use Of Wood Turning Lathes
DESCRIPTION:This Nationally accredited practical course will provide: \n\nTeachers\nTechnicians\nSupport staff/Premises Staff\n\nIn Design and Technology Departments ‘initial training’ on the Specialist Extension Level: S7HS Wood Turning Lathe \nDuring the day you will undertake a number of exercises\, including turning between centres and using faceplates and chucks. This course will familiarise teachers and technicians with the Design and Technology Association Specialist Extension Level Training Standards for the Wood Turning Lathe (S7HS) and prepare you to teach students how to turn safely. \nMachines to be used are Union Graduate and Axminster Jet wood turning lathes \nYou will receive by email\, a course pack covering current legislation and the knowledge\, skills and understanding required to safely use this range of woodworking machinery in schools. If you have recently completed the D&TA ‘Core’ Elements Training\, and have submitted your portfolio of evidence\, you will be able to add this unit to your D&TA accreditation. \nPlease note – Certification is valid for a period of 5 years.\nPlease also Note – There is no requirement to pay the accreditation if you just want to do some woodturning\, just book a place and come along and have some fun.
URL:https://rs-dt-training.co.uk/course/s7hs-safe-use-of-wood-turning-lathes-3/
LOCATION:Herewoode Academy\, New Parks\, Leicester LE36DN
CATEGORIES:Woodwork
ATTACH;FMTTYPE=image/jpeg:https://rs-dt-training.co.uk/wp-content/uploads/S7HS2.jpg
ORGANIZER;CN="RS Training":MAILTO:info@rs-dt-training.co.uk
END:VEVENT
END:VCALENDAR