BEGIN:VCALENDAR
VERSION:2.0
PRODID:-//RS Training - ECPv6.13.1//NONSGML v1.0//EN
CALSCALE:GREGORIAN
METHOD:PUBLISH
X-ORIGINAL-URL:https://rs-dt-training.co.uk
X-WR-CALDESC:Events for RS Training
REFRESH-INTERVAL;VALUE=DURATION:PT1H
X-Robots-Tag:noindex
X-PUBLISHED-TTL:PT1H
BEGIN:VTIMEZONE
TZID:UTC
BEGIN:STANDARD
TZOFFSETFROM:+0000
TZOFFSETTO:+0000
TZNAME:UTC
DTSTART:20230101T000000
END:STANDARD
END:VTIMEZONE
BEGIN:VEVENT
DTSTART;TZID=UTC:20231130T090000
DTEND;TZID=UTC:20231130T160000
DTSTAMP:20260421T100809
CREATED:20231006T091522Z
LAST-MODIFIED:20231006T101457Z
UID:307-1701334800-1701360000@rs-dt-training.co.uk
SUMMARY:S7HS Wood Turning
DESCRIPTION:This Nationally accredited practical course will provide: \n\nTeachers\nTechnicians\nSupport staff/Premises Staff\n\nIn Design and Technology Departments ‘initial training’ on the Specialist Extension Level: S7HS Wood Turning Lathe \nDuring the day you will undertake a number of exercises\, including turning between centres and using faceplates and chucks. This course will familiarise teachers and technicians with the Design and Technology Association Specialist Extension Level Training Standards for the Wood Turning Lathe (S7HS) and prepare you to teach students how to turn safely. \nMachines to be used are Union Graduate and Axminster Jet wood turning lathes \nYou will receive by email\, a course pack covering current legislation and the knowledge\, skills and understanding required to safely use this range of woodworking machinery in schools. If you have recently completed the D&TA ‘Core’ Elements Training\, and have submitted your portfolio of evidence\, you will be able to add this unit to your D&TA accreditation. \nPlease note – Certification is valid for a period of 5 years.
URL:https://rs-dt-training.co.uk/course/s7hs-wood-turning-3/
LOCATION:Training Location\, The Herewoode Academy Business Centre\, New Parks\, Leicester\, South Entrance Glenfield Road\, Leicester\, LE3 6DN
CATEGORIES:Woodwork
ATTACH;FMTTYPE=image/jpeg:https://rs-dt-training.co.uk/wp-content/uploads/S7HS1.jpg
END:VEVENT
BEGIN:VEVENT
DTSTART;TZID=UTC:20231123T090000
DTEND;TZID=UTC:20231123T160000
DTSTAMP:20260421T100809
CREATED:20231006T091435Z
LAST-MODIFIED:20231006T101302Z
UID:303-1700730000-1700755200@rs-dt-training.co.uk
SUMMARY:S7HS Wood Turning
DESCRIPTION:This Nationally accredited practical course will provide: \n\nTeachers\nTechnicians\nSupport staff/Premises Staff\n\nIn Design and Technology Departments ‘initial training’ on the Specialist Extension Level: S7HS Wood Turning Lathe \nDuring the day you will undertake a number of exercises\, including turning between centres and using faceplates and chucks. This course will familiarise teachers and technicians with the Design and Technology Association Specialist Extension Level Training Standards for the Wood Turning Lathe (S7HS) and prepare you to teach students how to turn safely. \nMachines to be used are Union Graduate and Axminster Jet wood turning lathes \nYou will receive by email\, a course pack covering current legislation and the knowledge\, skills and understanding required to safely use this range of woodworking machinery in schools. If you have recently completed the D&TA ‘Core’ Elements Training\, and have submitted your portfolio of evidence\, you will be able to add this unit to your D&TA accreditation. \nPlease note – Certification is valid for a period of 5 years.\n 
URL:https://rs-dt-training.co.uk/course/s7hs-wood-turning-2/
LOCATION:Training Location\, The Herewoode Academy Business Centre\, New Parks\, Leicester\, South Entrance Glenfield Road\, Leicester\, LE3 6DN
CATEGORIES:Woodwork
ATTACH;FMTTYPE=image/jpeg:https://rs-dt-training.co.uk/wp-content/uploads/S7HS2.jpg
END:VEVENT
BEGIN:VEVENT
DTSTART;TZID=UTC:20231121T090000
DTEND;TZID=UTC:20231121T160000
DTSTAMP:20260421T100809
CREATED:20231006T091420Z
LAST-MODIFIED:20231006T101203Z
UID:301-1700557200-1700582400@rs-dt-training.co.uk
SUMMARY:S1HS Wood Saws
DESCRIPTION:This Nationally accredited practical course will provide: \n\nTeachers\nTechnicians\nSupport staff/Premises Staff \n\nIn Design and Technology Departments ‘initial training’ on the Specialist Extension Level: S1HS WOOD SAWING MACHINES \nThe course is suitable if you require a new certificate on this range of machines. This is not a refresher course for those who already have certificates or whose certificates have recently expired. The course consists of practical exercises during the day.   \nMachines covered will include: \n\nCircular saw\nNarrow band saw\nRadial Arm/Chop Saw \n\nYou will receive by email\, a course pack covering current legislation and the knowledge\, skills and understanding required to safely use this range of woodworking machinery in schools. If you have recently completed the D&TA ‘Core’ Elements Training\, and have submitted your portfolio of evidence for accreditation\, you will be able to add this unit to your D&TA accreditation. \nPlease note – Certification is valid for a period of 5 years.  \n 
URL:https://rs-dt-training.co.uk/course/s1hs-wood-saws/
LOCATION:Training Location\, The Herewoode Academy Business Centre\, New Parks\, Leicester\, South Entrance Glenfield Road\, Leicester\, LE3 6DN
CATEGORIES:Woodwork
ATTACH;FMTTYPE=image/jpeg:https://rs-dt-training.co.uk/wp-content/uploads/PLANER1.jpg
END:VEVENT
BEGIN:VEVENT
DTSTART;TZID=UTC:20231031T090000
DTEND;TZID=UTC:20231031T160000
DTSTAMP:20260421T100809
CREATED:20231005T151328Z
LAST-MODIFIED:20231006T093341Z
UID:272-1698742800-1698768000@rs-dt-training.co.uk
SUMMARY:S7HS Wood Turning
DESCRIPTION:This Nationally accredited practical course will provide: \n\nTeachers\nTechnicians\nSupport staff/Premises Staff \n\nIn Design and Technology Departments ‘initial training’ on the Specialist Extension Level: S7HS Wood Turning Lathe \nDuring the day you will undertake a number of exercises\, including turning between centres and using faceplates and chucks. This course will familiarise teachers and technicians with the Design and Technology Association Specialist Extension Level Training Standards for the Wood Turning Lathe (S7HS) and prepare you to teach students how to turn safely. \nMachines to be used are Union Graduate and Axminster Jet wood turning lathes \nYou will receive by email\, a course pack covering current legislation and the knowledge\, skills and understanding required to safely use this range of woodworking machinery in schools. If you have recently completed the D&TA ‘Core’ Elements Training\, and have submitted your portfolio of evidence\, you will be able to add this unit to your D&TA accreditation. \nPlease note – Certification is valid for a period of 5 years.  \n 
URL:https://rs-dt-training.co.uk/course/s7hs-wood-turning/
LOCATION:Training Location\, The Herewoode Academy Business Centre\, New Parks\, Leicester\, South Entrance Glenfield Road\, Leicester\, LE3 6DN
CATEGORIES:Woodwork
ATTACH;FMTTYPE=image/jpeg:https://rs-dt-training.co.uk/wp-content/uploads/S7HS1.jpg
END:VEVENT
END:VCALENDAR