BEGIN:VCALENDAR
VERSION:2.0
PRODID:-//RS Training - ECPv6.13.1//NONSGML v1.0//EN
CALSCALE:GREGORIAN
METHOD:PUBLISH
X-ORIGINAL-URL:https://rs-dt-training.co.uk
X-WR-CALDESC:Events for RS Training
REFRESH-INTERVAL;VALUE=DURATION:PT1H
X-Robots-Tag:noindex
X-PUBLISHED-TTL:PT1H
BEGIN:VTIMEZONE
TZID:UTC
BEGIN:STANDARD
TZOFFSETFROM:+0000
TZOFFSETTO:+0000
TZNAME:UTC
DTSTART:20240101T000000
END:STANDARD
END:VTIMEZONE
BEGIN:VEVENT
DTSTART;TZID=UTC:20240404T090000
DTEND;TZID=UTC:20240404T160000
DTSTAMP:20260423T231636
CREATED:20240123T124918Z
LAST-MODIFIED:20240123T125133Z
UID:491-1712221200-1712246400@rs-dt-training.co.uk
SUMMARY:S12HS Essential H&S for Technicians - Test
DESCRIPTION:This Nationally accredited practical course will provide: \n\nTechnicians\nSupport staff/Premises Staff \n\nIn Design and Technology Departments ‘initial training’ on the Specialist Extension Level: S12 Essential H&S for Technicians \nS12HS introduces technicians to a range of essential knowledge\, practical skills and understanding. The activities will include: \n\n   H&S legislation\, documentation and responsibilities\n   Undertaking risk assessments and maintaining control measures\n   Providing effective support for the D&T curriculum\n   Understanding LEV system\n   Essential routine maintenance\n   Managing D&T resources\n   Managing the D&T environment\n\nThis is a workshop-based course and will offer technicians a choice from a range of essential practical skills that can be taught during the session. \nPlease note – Certification is valid for a period of 5 years.  \n 
URL:https://rs-dt-training.co.uk/course/s12hs-essential-hs-for-technicians-test/
LOCATION:Training Location\, The Herewoode Academy Business Centre\, New Parks\, Leicester\, South Entrance Glenfield Road\, Leicester\, LE3 6DN
CATEGORIES:Health & Safety
ATTACH;FMTTYPE=image/jpeg:https://rs-dt-training.co.uk/wp-content/uploads/SCHS3.jpg
END:VEVENT
BEGIN:VEVENT
DTSTART;TZID=UTC:20240409T090000
DTEND;TZID=UTC:20240409T160000
DTSTAMP:20260423T231636
CREATED:20240206T091149Z
LAST-MODIFIED:20240311T193350Z
UID:527-1712653200-1712678400@rs-dt-training.co.uk
SUMMARY:SMHS Secondary Materials H&S
DESCRIPTION:This Nationally accredited practical course will provide: \n\nTeachers\nTechnicians\nSupport staff/Premises Staff\n\nIn Design and Technology Departments ‘initial training’ on the Specialist Level: SMHS Secondary Materials Health and Safety \nThis course will enable delegates to acquire H&S accreditation certification through a ‘hands on’ approach using the following… \n\nDrilling Machine\nSanding Machine\nPortable power tools (Drill & Sander)\nPower Fret Saw\nOff Hand Grinder\nHand Tools\nPlastics Moulding Equipment\nMortiser\n\nPlease note – Certification is valid for a period of 5 years.  
URL:https://rs-dt-training.co.uk/course/smhs-secondary-materials-hs-090424/
LOCATION:Training Location\, The Herewoode Academy Business Centre\, New Parks\, Leicester\, South Entrance Glenfield Road\, Leicester\, LE3 6DN
CATEGORIES:Health & Safety
ATTACH;FMTTYPE=image/jpeg:https://rs-dt-training.co.uk/wp-content/uploads/SMHS1.jpg
END:VEVENT
BEGIN:VEVENT
DTSTART;TZID=UTC:20240411T090000
DTEND;TZID=UTC:20240411T160000
DTSTAMP:20260423T231636
CREATED:20240206T091302Z
LAST-MODIFIED:20240206T091302Z
UID:530-1712826000-1712851200@rs-dt-training.co.uk
SUMMARY:S1HS Wood Saws
DESCRIPTION:This Nationally accredited practical course will provide: \n\nTeachers\nTechnicians\nSupport staff/Premises Staff\n\nIn Design and Technology Departments ‘initial training’ on the Specialist Extension Level: S1HS WOOD SAWING MACHINES \nThe course is suitable if you require a new certificate on this range of machines. This is not a refresher course for those who already have certificates or whose certificates have recently expired. The course consists of practical exercises during the day. \nMachines covered will include: \n\nCircular saw\nNarrow band saw\nRadial Arm/Chop Saw\n\nYou will receive by email\, a course pack covering current legislation and the knowledge\, skills and understanding required to safely use this range of woodworking machinery in schools. If you have recently completed the D&TA ‘Core’ Elements Training\, and have submitted your portfolio of evidence for accreditation\, you will be able to add this unit to your D&TA accreditation. \nPlease note – Certification is valid for a period of 5 years.  
URL:https://rs-dt-training.co.uk/course/s1hs-wood-saws-110424/
LOCATION:Training Location\, The Herewoode Academy Business Centre\, New Parks\, Leicester\, South Entrance Glenfield Road\, Leicester\, LE3 6DN
CATEGORIES:Woodwork
ATTACH;FMTTYPE=image/jpeg:https://rs-dt-training.co.uk/wp-content/uploads/WOODSAWS5.jpg
END:VEVENT
BEGIN:VEVENT
DTSTART;TZID=UTC:20240416T090000
DTEND;TZID=UTC:20240416T160000
DTSTAMP:20260423T231636
CREATED:20240206T091411Z
LAST-MODIFIED:20240311T193523Z
UID:533-1713258000-1713283200@rs-dt-training.co.uk
SUMMARY:S1/S8HS Wood Saws and Planer Thicknesser Refresher
DESCRIPTION:This Nationally accredited practical course will provide: \n\nTeachers\nTechnicians\nSupport staff/Premises Staff \n\nIn Design and Technology Departments ‘initial training’ on the Specialist Extension Level: S1HS Wood saws and S8HS Planer Thicknesser Machines \nThe course is suitable if you require a new certificate on this range of machines. This is not a refresher course for those who already have certificates or whose certificates have recently expired. The course consists of practical exercises during the day.  Machines covered will include: \n\nCircular saw\nNarrow band saw\nRadial Arm/Chop Saw \nThe Combined Planer Thicknesser\n\nYou will receive by email\, a course pack covering current legislation and the knowledge\, skills and understanding required to safely use this range of woodworking machinery in schools. If you have recently completed the D&TA ‘Core’ Elements Training\, and have submitted your portfolio of evidence\, you will be able to add this unit to your D&TA accreditation. \nPlease note – Certification is valid for 5 years\n 
URL:https://rs-dt-training.co.uk/course/s1-s8hs-wood-saws-and-planer-thicknesser-refresher-160424/
LOCATION:Training Location\, The Herewoode Academy Business Centre\, New Parks\, Leicester\, South Entrance Glenfield Road\, Leicester\, LE3 6DN
CATEGORIES:Power Tools
ATTACH;FMTTYPE=image/jpeg:https://rs-dt-training.co.uk/wp-content/uploads/PLANER3.jpg
END:VEVENT
BEGIN:VEVENT
DTSTART;TZID=UTC:20240417T090000
DTEND;TZID=UTC:20240417T160000
DTSTAMP:20260423T231636
CREATED:20240206T091512Z
LAST-MODIFIED:20240311T193613Z
UID:536-1713344400-1713369600@rs-dt-training.co.uk
SUMMARY:SCHS Core Elements
DESCRIPTION:This Nationally accredited practical course will provide: \n\nTeachers\nTechnicians\nSupport staff/Premises Staff \n\nIn Design and Technology Departments ‘initial training’ on the Specialist Level: SCHS Secondary Core Level Training (Refresher) \nThis course is suitable for all colleagues who have completed the Core Level Training Standards and the personal Health and Safety portfolio and whose Design and Technology Association accreditation is now due for renewal.  The course will extend and update your knowledge and understanding of health and safety and will include a range of activities\, including: \n\nChecking knowledge and understanding of H&S\nExtending knowledge and understanding of H&S \nEnsuring that risk assessments are ‘suitable and sufficient’ \nExploring environmental issues\, incl. lighting\, heating\, dust\, noise and vibration \nInvestigating accidents \nMeasuring competence \nTeaching and learning strategies  \n\n  \nPlease Note: Colleagues attending should bring their personal Health and Safety portfolios along as a reference to use during the course\, and there will be an opportunity to update it to meet the requirements for re-accreditation of the D&T Association Core Level Training Standards during the session. \nPlease note certification is valid for 5 years.
URL:https://rs-dt-training.co.uk/course/schs-core-elements-180424/
LOCATION:Training Location\, The Herewoode Academy Business Centre\, New Parks\, Leicester\, South Entrance Glenfield Road\, Leicester\, LE3 6DN
CATEGORIES:Health & Safety
ATTACH;FMTTYPE=image/jpeg:https://rs-dt-training.co.uk/wp-content/uploads/SCHS3.jpg
END:VEVENT
BEGIN:VEVENT
DTSTART;TZID=UTC:20240423T090000
DTEND;TZID=UTC:20240423T160000
DTSTAMP:20260423T231636
CREATED:20240206T091622Z
LAST-MODIFIED:20240311T193650Z
UID:539-1713862800-1713888000@rs-dt-training.co.uk
SUMMARY:S12HS Essential H&S for Technicians
DESCRIPTION:This Nationally accredited practical course will provide: \n\nTechnicians\nSupport staff/Premises Staff \n\nIn Design and Technology Departments ‘initial training’ on the Specialist Extension Level: S12 Essential H&S for Technicians \nS12HS introduces technicians to a range of essential knowledge\, practical skills and understanding. The activities will include: \n\n   H&S legislation\, documentation and responsibilities\n   Undertaking risk assessments and maintaining control measures\n   Providing effective support for the D&T curriculum\n   Understanding LEV system\n   Essential routine maintenance\n   Managing D&T resources\n   Managing the D&T environment\n\nThis is a workshop-based course and will offer technicians a choice from a range of essential practical skills that can be taught during the session. \nPlease note – Certification is valid for a period of 5 years.  \n 
URL:https://rs-dt-training.co.uk/course/s12hs-essential-hs-for-technicians-230424/
LOCATION:Training Location\, The Herewoode Academy Business Centre\, New Parks\, Leicester\, South Entrance Glenfield Road\, Leicester\, LE3 6DN
CATEGORIES:Health & Safety
ATTACH;FMTTYPE=image/jpeg:https://rs-dt-training.co.uk/wp-content/uploads/SCHS3.jpg
END:VEVENT
BEGIN:VEVENT
DTSTART;TZID=UTC:20240424T090000
DTEND;TZID=UTC:20240424T120000
DTSTAMP:20260423T231636
CREATED:20240206T091734Z
LAST-MODIFIED:20240206T091734Z
UID:542-1713949200-1713960000@rs-dt-training.co.uk
SUMMARY:SCHSR Core Refresher
DESCRIPTION:This Nationally accredited practical course will provide: \n\nTeachers\nTechnicians\nSupport staff/Premises Staff\n\nIn Design and Technology Departments ‘initial training’ on the Specialist Level: SCHS Secondary Core Level Training (Refresher) \nThis course is suitable for all colleagues who have completed the Core Level Training Standards and the personal Health and Safety portfolio and whose Design and Technology Association accreditation is now due for renewal.  The course will extend and update your knowledge and understanding of health and safety and will include a range of activities\, including: \n\nChecking knowledge and understanding of H&S\nExtending knowledge and understanding of H&S\nEnsuring that risk assessments are ‘suitable and sufficient’\nExploring environmental issues\, incl. lighting\, heating\, dust\, noise and vibration\nInvestigating accidents\nMeasuring competence\nTeaching and learning strategies\n\n  \nPlease Note: Colleagues attending should bring their personal Health and Safety portfolios along as a reference to use during the course\, and there will be an opportunity to update it to meet the requirements for re-accreditation of the D&T Association Core Level Training Standards during the session. \nPLEASE NOTE CERTIFICATION IS VALID FOR 5 YEARS.
URL:https://rs-dt-training.co.uk/course/schsr-core-refresher-240424/
LOCATION:Training Location\, The Herewoode Academy Business Centre\, New Parks\, Leicester\, South Entrance Glenfield Road\, Leicester\, LE3 6DN
CATEGORIES:Health & Safety
ATTACH;FMTTYPE=image/jpeg:https://rs-dt-training.co.uk/wp-content/uploads/SCHS2.jpg
END:VEVENT
BEGIN:VEVENT
DTSTART;TZID=UTC:20240425T090000
DTEND;TZID=UTC:20240425T160000
DTSTAMP:20260423T231636
CREATED:20240206T091834Z
LAST-MODIFIED:20240312T080127Z
UID:545-1714035600-1714060800@rs-dt-training.co.uk
SUMMARY:S9HS Portable Power Tools
DESCRIPTION:This Nationally accredited practical course will provide: \n\nTeachers\nTechnicians\nSupport staff/Premises Staff\n\nIn Design and Technology Departments ‘initial training’ on the Specialist Extension Level: S9HS Portable Power Tools \nDuring the day\, delegates will undertake a variety of practical exercises to prepare them to safely use a range of portable power tools at work. These include:  Angle grinder  Jigsaw  Portable circular Saws Radial Arm/Mitre saw  Biscuit jointer  Portable power plane and Routers \nYou will receive by email\, a course pack covering current legislation and the knowledge\, skills and understanding required to safely use this range of woodworking machinery in schools. If you have recently completed the D&TA ‘Core’ Elements Training\, and have submitted your portfolio of evidence\, you will be able to add this unit to your D&TA accreditation. \nPlease note – Certification is valid for a period of 5 years.
URL:https://rs-dt-training.co.uk/course/s9hs-portable-power-tools-250424/
LOCATION:Training Location\, The Herewoode Academy Business Centre\, New Parks\, Leicester\, South Entrance Glenfield Road\, Leicester\, LE3 6DN
CATEGORIES:Power Tools
ATTACH;FMTTYPE=image/jpeg:https://rs-dt-training.co.uk/wp-content/uploads/S9HS1.jpg
END:VEVENT
BEGIN:VEVENT
DTSTART;TZID=UTC:20240430T090000
DTEND;TZID=UTC:20240501T160000
DTSTAMP:20260423T231636
CREATED:20240206T092133Z
LAST-MODIFIED:20240206T092133Z
UID:548-1714467600-1714579200@rs-dt-training.co.uk
SUMMARY:S1/S8HS Wood Saws and Planer Thicknesser 2 Day
DESCRIPTION:This Nationally accredited practical course will provide: \n\nTeachers\nTechnicians\nSupport staff/Premises Staff\n\nIn Design and Technology Departments ‘initial training’ on the Specialist Extension Level: S1HS Wood saws and S8HS Planer Thicknesser Machines \nThe course is suitable if you require a new certificate on this range of machines. This is not a refresher course for those who already have certificates or whose certificates have recently expired. The course consists of practical exercises during the day.  Machines covered will include: \n\nCircular saw\nNarrow band saw\nRadial Arm/Chop Saw\nThe Combined Planer Thicknesser\n\nYou will receive by email\, a course pack covering current legislation and the knowledge\, skills and understanding required to safely use this range of woodworking machinery in schools. If you have recently completed the D&TA ‘Core’ Elements Training\, and have submitted your portfolio of evidence\, you will be able to add this unit to your D&TA accreditation. \nPlease note – Certification is valid for 5 years
URL:https://rs-dt-training.co.uk/course/s1-s8hs-wood-saws-and-planer-thicknesser-2-day-300424/
LOCATION:Training Location\, The Herewoode Academy Business Centre\, New Parks\, Leicester\, South Entrance Glenfield Road\, Leicester\, LE3 6DN
CATEGORIES:Power Tools
ATTACH;FMTTYPE=image/jpeg:https://rs-dt-training.co.uk/wp-content/uploads/PLANER2.jpg
END:VEVENT
END:VCALENDAR