BEGIN:VCALENDAR
VERSION:2.0
PRODID:-//RS Training - ECPv6.13.1//NONSGML v1.0//EN
CALSCALE:GREGORIAN
METHOD:PUBLISH
X-ORIGINAL-URL:https://rs-dt-training.co.uk
X-WR-CALDESC:Events for RS Training
REFRESH-INTERVAL;VALUE=DURATION:PT1H
X-Robots-Tag:noindex
X-PUBLISHED-TTL:PT1H
BEGIN:VTIMEZONE
TZID:UTC
BEGIN:STANDARD
TZOFFSETFROM:+0000
TZOFFSETTO:+0000
TZNAME:UTC
DTSTART:20250101T000000
END:STANDARD
END:VTIMEZONE
BEGIN:VEVENT
DTSTART;TZID=UTC:20250401T090000
DTEND;TZID=UTC:20250401T160000
DTSTAMP:20260421T092543
CREATED:20250214T122058Z
LAST-MODIFIED:20250214T123815Z
UID:1065-1743498000-1743523200@rs-dt-training.co.uk
SUMMARY:SMHS Secondary Materials Health and Safety
DESCRIPTION:This Nationally accredited practical course will provide: \n\nTeachers\nTechnicians\nSupport staff/Premises Staff\n\nIn Design and Technology Departments ‘initial training’ on the Specialist Level: SMHS Secondary Materials Health and Safety \nThis course will enable delegates to acquire H&S accreditation certification through a ‘hands on’ approach using the following… \n\nDrilling Machine\nSanding Machine\nPortable power tools (Drill & Sander)\nPower Fret Saw\nOff Hand Grinder\nHand Tools\nPlastics Moulding Equipment\nMortiser\n\nPlease note – Certification is valid for a period of 5 years.\nACCREDITATION CERTIFICATE PRICE INCREASED BY DATA (as from March 1st 2025)\, £26.40 TO £30\, VAT INCLUDED.
URL:https://rs-dt-training.co.uk/course/smhs-secondary-materials-health-and-safety-9/
LOCATION:Training Location\, The Herewoode Academy Business Centre\, New Parks\, Leicester\, South Entrance Glenfield Road\, Leicester\, LE3 6DN
ATTACH;FMTTYPE=image/jpeg:https://rs-dt-training.co.uk/wp-content/uploads/SMHS4-e1739537114112.jpg
ORGANIZER;CN="RS Training":MAILTO:info@rs-dt-training.co.uk
END:VEVENT
BEGIN:VEVENT
DTSTART;TZID=UTC:20250402T090000
DTEND;TZID=UTC:20250402T160000
DTSTAMP:20260421T092543
CREATED:20250303T101905Z
LAST-MODIFIED:20250303T101905Z
UID:1088-1743584400-1743609600@rs-dt-training.co.uk
SUMMARY:Woodturning Lathe DISCOUNTED
DESCRIPTION:This Nationally accredited practical course will provide: \n\nTeachers\nTechnicians\nSupport staff/Premises Staff\n\nIn Design and Technology Departments ‘initial training’ on the Specialist Extension Level: S7HS Wood Turning Lathe \nDuring the day you will undertake a number of exercises\, including turning between centres and using faceplates and chucks. This course will familiarise teachers and technicians with the Design and Technology Association Specialist Extension Level Training Standards for the Wood Turning Lathe (S7HS) and prepare you to teach students how to turn safely. \nMachines to be used are Union Graduate and Axminster Jet wood turning lathes \nYou will receive by email\, a course pack covering current legislation and the knowledge\, skills and understanding required to safely use this range of woodworking machinery in schools. If you have recently completed the D&TA ‘Core’ Elements Training\, and have submitted your portfolio of evidence\, you will be able to add this unit to your D&TA accreditation. \nPlease note – Certification is valid for a period of 5 years.\nPlease Note – Certification is not required if you just want to come along and have some fun woodturning
URL:https://rs-dt-training.co.uk/course/woodturning-lathe-discounted/
LOCATION:Training Location\, The Herewoode Academy Business Centre\, New Parks\, Leicester\, South Entrance Glenfield Road\, Leicester\, LE3 6DN
CATEGORIES:Woodwork
ATTACH;FMTTYPE=image/jpeg:https://rs-dt-training.co.uk/wp-content/uploads/S7HS1.jpg
ORGANIZER;CN="RS Training":MAILTO:info@rs-dt-training.co.uk
END:VEVENT
BEGIN:VEVENT
DTSTART;TZID=UTC:20250403T090000
DTEND;TZID=UTC:20250403T160000
DTSTAMP:20260421T092543
CREATED:20250214T122616Z
LAST-MODIFIED:20250214T122616Z
UID:1068-1743670800-1743696000@rs-dt-training.co.uk
SUMMARY:S1HS Woodsawing Machines Health and Safety
DESCRIPTION:This Nationally accredited practical course will provide: \n\nTeachers\nTechnicians\nSupport staff/Premises Staff\n\nIn Design and Technology Departments ‘initial training’ on the Specialist Extension Level: S1HS WOOD SAWING MACHINES \nThe course is suitable if you require a new certificate on this range of machines. This is not a refresher course for those who already have certificates or whose certificates have recently expired. The course consists of practical exercises during the day. \nMachines covered will include: \n\nCircular saw\nNarrow band saw\nRadial Arm/Chop Saw\n\nIf you have recently completed the D&TA ‘Core’ Elements Trai and have submitted your portfolio of evidence for accreditation\, you will be able to add this unit to your D&TA accreditation. \nPlease note – Certification is valid for a period of 5 years.  
URL:https://rs-dt-training.co.uk/course/s1hs-woodsawing-machines-health-and-safety-5/
LOCATION:Training Location\, The Herewoode Academy Business Centre\, New Parks\, Leicester\, South Entrance Glenfield Road\, Leicester\, LE3 6DN
ATTACH;FMTTYPE=image/jpeg:https://rs-dt-training.co.uk/wp-content/uploads/Rhino-e1739537677760.jpg
ORGANIZER;CN="RS Training":MAILTO:info@rs-dt-training.co.uk
END:VEVENT
BEGIN:VEVENT
DTSTART;TZID=UTC:20250408T090000
DTEND;TZID=UTC:20250408T160000
DTSTAMP:20260421T092543
CREATED:20250214T123152Z
LAST-MODIFIED:20250214T123152Z
UID:1071-1744102800-1744128000@rs-dt-training.co.uk
SUMMARY:S1/S8HS Woodsawing Machines and Planer Thicknesser Refresher
DESCRIPTION:This course will enable delegates to refresh their H&S accreditation certification through a ‘hands \non’ approach. The course will cover the areas of S1HS and S8HS and will involve practical \nexperience in the use of a circular saw\, radial arm saw\, narrow band saw and combined \nplaner-thicknesser.  Delegates will receive a course pack covering current legislation and the \nknowledge\, skills and understanding required to safely use this range of woodworking \nmachinery in schools. \n  \nAll the activities conform to the current D&T Association Training Standards.
URL:https://rs-dt-training.co.uk/course/s1-s8hs-woodsawing-machines-and-planer-thicknesser-refresher-2/
LOCATION:Training Location\, The Herewoode Academy Business Centre\, New Parks\, Leicester\, South Entrance Glenfield Road\, Leicester\, LE3 6DN
ATTACH;FMTTYPE=image/png:https://rs-dt-training.co.uk/wp-content/uploads/Wood-Sawing-Machines-and-S8HS-Planer-Thicknesser.png
ORGANIZER;CN="RS Training":MAILTO:info@rs-dt-training.co.uk
END:VEVENT
BEGIN:VEVENT
DTSTART;TZID=UTC:20250410T090000
DTEND;TZID=UTC:20250410T160000
DTSTAMP:20260421T092543
CREATED:20250214T123646Z
LAST-MODIFIED:20250214T123646Z
UID:1074-1744275600-1744300800@rs-dt-training.co.uk
SUMMARY:SCHS Secondary Core Elements Health and Safety
DESCRIPTION:This course will familiarise you with the D&T Association CORE Level Training Standards covering risk assessment and enable you to complete an individual D&T H&S portfolio for accreditation through completion of 10 areas. The course is suitable for both teachers and technicians\, working in all material areas of the subject. \nThe course will extend and update your knowledge and understanding of health and safety and will have a range of activities covering: \n\nCore standards\nEnvironmental issues\nRisk Assessment\nLegal issues surrounding delivery of Design & Technology\nLEV\, COSHH\, PAT\, Maintenance etc.\n\nPlease note: there is no machine training on this course. \nACCREDITATION CERTIFICATE PRICE INCREASED BY DATA (as from March 1st 2025)\, £26.40 TO £30\, VAT INCLUDED.
URL:https://rs-dt-training.co.uk/course/schs-secondary-core-elements-health-and-safety-5/
LOCATION:Training Location\, The Herewoode Academy Business Centre\, New Parks\, Leicester\, South Entrance Glenfield Road\, Leicester\, LE3 6DN
ATTACH;FMTTYPE=image/jpeg:https://rs-dt-training.co.uk/wp-content/uploads/SCHS3.jpg
ORGANIZER;CN="RS Training":MAILTO:info@rs-dt-training.co.uk
END:VEVENT
BEGIN:VEVENT
DTSTART;TZID=UTC:20250430T090000
DTEND;TZID=UTC:20250430T160000
DTSTAMP:20260421T092543
CREATED:20250303T112156Z
LAST-MODIFIED:20250320T104944Z
UID:1092-1746003600-1746028800@rs-dt-training.co.uk
SUMMARY:SMHS Secondary Materials Health and Safety
DESCRIPTION:This Nationally accredited practical course will provide: \n\nTeachers\nTechnicians\nSupport staff/Premises Staff\n\nIn Design and Technology Departments ‘initial training’ on the Specialist Level: SMHS Secondary Materials Health and Safety \nThis course will enable delegates to acquire H&S accreditation certification through a ‘hands on’ approach using the following… \n\nDrilling Machine\nSanding Machine\nPortable power tools (Drill & Sander)\nPower Fret Saw\nOff Hand Grinder\nHand Tools\nPlastics Moulding Equipment\nMortiser\n\nPlease note – Certification is valid for a period of 5 years.\nACCREDITATION CERTIFICATE PRICE INCREASED BY DATA (as from March 1st 2025)\, £26.40 TO £30\, VAT INCLUDED.
URL:https://rs-dt-training.co.uk/course/smhs-secondary-materials-health-and-safety-10/
LOCATION:Training Location\, The Herewoode Academy Business Centre\, New Parks\, Leicester\, South Entrance Glenfield Road\, Leicester\, LE3 6DN
CATEGORIES:Health & Safety
ATTACH;FMTTYPE=image/jpeg:https://rs-dt-training.co.uk/wp-content/uploads/RS-DT-Training-based-in-Leicester-33-scaled.jpg
ORGANIZER;CN="RS Training":MAILTO:info@rs-dt-training.co.uk
END:VEVENT
END:VCALENDAR