BEGIN:VCALENDAR
VERSION:2.0
PRODID:-//RS Training - ECPv6.13.1//NONSGML v1.0//EN
CALSCALE:GREGORIAN
METHOD:PUBLISH
X-WR-CALNAME:RS Training
X-ORIGINAL-URL:https://rs-dt-training.co.uk
X-WR-CALDESC:Events for RS Training
REFRESH-INTERVAL;VALUE=DURATION:PT1H
X-Robots-Tag:noindex
X-PUBLISHED-TTL:PT1H
BEGIN:VTIMEZONE
TZID:UTC
BEGIN:STANDARD
TZOFFSETFROM:+0000
TZOFFSETTO:+0000
TZNAME:UTC
DTSTART:20250101T000000
END:STANDARD
END:VTIMEZONE
BEGIN:VEVENT
DTSTART;TZID=UTC:20251002T090000
DTEND;TZID=UTC:20251002T160000
DTSTAMP:20260421T185719
CREATED:20250608T122658Z
LAST-MODIFIED:20250917T151418Z
UID:1230-1759395600-1759420800@rs-dt-training.co.uk
SUMMARY:S1HS Safe us of Wood Sawing machines
DESCRIPTION:This Nationally accredited practical course will provide: \n\nTeachers\nTechnicians\nSupport staff/Premises Staff\n\nIn Design and Technology Departments ‘initial training’ on the Specialist Extension Level: S1HS WOOD SAWING MACHINES \nThe course is suitable if you require a new certificate on this range of machines. This is not a refresher course for those who already have certificates or whose certificates have recently expired. The course consists of practical exercises during the day. \nMachines covered will include: \n\nCircular saw\nNarrow band saw\nRadial Arm/Chop Saw\n\nIf you have recently completed the D&TA ‘Core’ Elements Trai and have submitted your portfolio of evidence for accreditation\, you will be able to add this unit to your D&TA accreditation. \nPlease note – Certification is valid for a period of 5 years.  
URL:https://rs-dt-training.co.uk/course/s1hs-safe-us-of-wood-sawing-machines/
LOCATION:Herewoode Academy\, New Parks\, Leicester LE36DN
CATEGORIES:Woodwork
ATTACH;FMTTYPE=image/jpeg:https://rs-dt-training.co.uk/wp-content/uploads/RS-DT-Training-based-in-Leicester-21-scaled-e1717516204945.jpg
ORGANIZER;CN="RS Training":MAILTO:info@rs-dt-training.co.uk
END:VEVENT
BEGIN:VEVENT
DTSTART;TZID=UTC:20251007T090000
DTEND;TZID=UTC:20251007T160000
DTSTAMP:20260421T185720
CREATED:20250608T122954Z
LAST-MODIFIED:20250608T122954Z
UID:1233-1759827600-1759852800@rs-dt-training.co.uk
SUMMARY:SCHS Secondary Core Elements Health and Safety
DESCRIPTION:This course will familiarise you with the D&T Association CORE Level Training Standards covering risk assessment and enable you to complete an individual D&T H&S portfolio for accreditation through completion of 10 areas. The course is suitable for both teachers and technicians\, working in all material areas of the subject. \nThe course will extend and update your knowledge and understanding of health and safety and will have a range of activities covering: \n\nCore standards\nEnvironmental issues\nRisk Assessment\nLegal issues surrounding delivery of Design & Technology\nLEV\, COSHH\, PAT\, Maintenance etc.\n\nPlease note: there is no machine training on this course. \nACCREDITATION CERTIFICATE PRICE INCREASED BY DATA (as from March 1st 2025)\, £26.40 TO £30\, VAT INCLUDED.
URL:https://rs-dt-training.co.uk/course/schs-secondary-core-elements-health-and-safety-8/
LOCATION:Herewoode Academy\, New Parks\, Leicester LE36DN
CATEGORIES:Health & Safety
ATTACH;FMTTYPE=image/jpeg:https://rs-dt-training.co.uk/wp-content/uploads/SCHS3.jpg
ORGANIZER;CN="RS Training":MAILTO:info@rs-dt-training.co.uk
END:VEVENT
BEGIN:VEVENT
DTSTART;TZID=UTC:20251009T090000
DTEND;TZID=UTC:20251009T160000
DTSTAMP:20260421T185720
CREATED:20250608T123227Z
LAST-MODIFIED:20250608T123227Z
UID:1236-1760000400-1760025600@rs-dt-training.co.uk
SUMMARY:S9HS Safe use of Portable Power Tools
DESCRIPTION:This Nationally accredited practical course will provide: \n\nTeachers\nTechnicians\nSupport staff/Premises Staff\n\nIn Design and Technology Departments ‘initial training’ on the Specialist Extension Level: S9HS Portable Power Tools \nDuring the day\, delegates will undertake a variety of practical exercises to prepare them to safely use a range of portable power tools at work. These include:  Angle grinder  Jigsaw  Portable circular Saws Radial Arm/Mitre saw  Biscuit jointer  Portable power plane and Routers \nIf you have recently completed the D&TA ‘Core’ Elements Training\, and have submitted your portfolio of evidence\, you will be able to add this unit to your D&TA accreditation. \nPlease note – Certification is valid for a period of 5 years.\nACCREDITATION CERTIFICATE PRICE INCREASED BY DATA (as from March 1st 2025)\, £26.40 TO £30\, VAT INCLUDED.
URL:https://rs-dt-training.co.uk/course/s9hs-safe-use-of-portable-power-tools-2/
LOCATION:Herewoode Academy\, New Parks\, Leicester LE36DN
CATEGORIES:Power Tools
ATTACH;FMTTYPE=image/jpeg:https://rs-dt-training.co.uk/wp-content/uploads/RS-DT-Training-based-in-Leicester-32-scaled.jpg
ORGANIZER;CN="RS Training":MAILTO:info@rs-dt-training.co.uk
END:VEVENT
BEGIN:VEVENT
DTSTART;TZID=UTC:20251014T090000
DTEND;TZID=UTC:20251014T160000
DTSTAMP:20260421T185720
CREATED:20250608T123549Z
LAST-MODIFIED:20250910T120253Z
UID:1239-1760432400-1760457600@rs-dt-training.co.uk
SUMMARY:S1/S8HSR  Safe use of wood sawing machines and planer thicknesser refresher
DESCRIPTION:This course will enable delegates to refresh their H&S accreditation certification through a ‘hands \non’ approach. The course will cover the areas of S1HS and S8HS and will involve practical \nexperience in the use of a circular saw\, radial arm saw\, narrow band saw and combined \nplaner-thicknesser.  Delegates will receive a course pack covering current legislation and the \nknowledge\, skills and understanding required to safely use this range of woodworking \nmachinery in schools. \n  \nAll the activities conform to the current D&T Association Training Standards.
URL:https://rs-dt-training.co.uk/course/s1-s8hsr-safe-use-of-wood-sawing-machines-and-planer-thicknesser-refresher/
LOCATION:Herewoode Academy\, New Parks\, Leicester LE36DN
CATEGORIES:Woodwork
ATTACH;FMTTYPE=image/jpeg:https://rs-dt-training.co.uk/wp-content/uploads/PLANER3.jpg
ORGANIZER;CN="RS Training":MAILTO:info@rs-dt-training.co.uk
END:VEVENT
BEGIN:VEVENT
DTSTART;TZID=UTC:20251016T090000
DTEND;TZID=UTC:20251016T160000
DTSTAMP:20260421T185720
CREATED:20250608T123957Z
LAST-MODIFIED:20250608T123957Z
UID:1242-1760605200-1760630400@rs-dt-training.co.uk
SUMMARY:S12HS Essential Health and Safety For DT Technicians
DESCRIPTION:This Nationally accredited practical course will provide: \n\nTechnicians\nSupport staff/Premises Staff\n\nIn Design and Technology Departments ‘initial training’ on the Specialist Extension Level: S12 Essential H&S for Technicians \nS12HS introduces technicians to a range of essential knowledge\, practical skills and understanding. The activities will include: \n\n  H&S legislation\, documentation and responsibilities\n  Undertaking risk assessments and maintaining control measures\n  Providing effective support for the D&T curriculum\n  Understanding LEV system\n  Essential routine maintenance\n  Managing D&T resources\n  Managing the D&T environment\n\nThis is a workshop-based course and will offer technicians a choice from a range of essential practical skills that can be taught during the session. \nPlease note – Certification is valid for a period of 5 years. \nACCREDITATION CERTIFICATE PRICE INCREASED BY DATA (as from March 1st 2025)\, £26.40 TO £30\, VAT INCLUDED.
URL:https://rs-dt-training.co.uk/course/s12hs-essential-health-and-safety-for-dt-technicians-5/
LOCATION:Herewoode Academy\, New Parks\, Leicester LE36DN
CATEGORIES:Health & Safety
ATTACH;FMTTYPE=image/jpeg:https://rs-dt-training.co.uk/wp-content/uploads/RS-DT-Training-based-in-LEicester-18-scaled-e1739537838379.jpg
ORGANIZER;CN="RS Training":MAILTO:info@rs-dt-training.co.uk
END:VEVENT
BEGIN:VEVENT
DTSTART;TZID=UTC:20251023T090000
DTEND;TZID=UTC:20251023T160000
DTSTAMP:20260421T185720
CREATED:20250608T124736Z
LAST-MODIFIED:20250608T124736Z
UID:1248-1761210000-1761235200@rs-dt-training.co.uk
SUMMARY:S10HS Grinding and Sharpening
DESCRIPTION:This Nationally accredited practical course will provide:\n\nTeachers\nTechnicians\nSupport staff/Premises Staff\n\nIn Design and Technology Departments ‘initial training’ on the Specialist Extension Level: S10HS Grinding and Sharpening \nThis course will enable delegates to acquire H&S accreditation certification through a ‘hands on’ approach using the types of grinding machines that can be safely used in school workshops. \n\nThe types and grading of bench stones that can be used to sharpen hand and machine tools\, safety in the use of abrasive wheels\nThe hazards and risks arising from the use of abrasive wheels.\nHow to: assemble abrasive wheels correctly to make sure they are properly\n\nbalanced and fit to use.\nHow to store\, handle and transport abrasive wheels.\nHow to inspect and test abrasive wheels for damage.\nAppropriate methods of dressing abrasive wheels.\nThe use of a range of bench stones\, including an understanding of sharpening angles and the use of honing guides.\nHow to identify defects in grindstones and the procedures for dealing with them to avoid accidents.\n\nPlease note – Certification is valid for a period of 5 years.
URL:https://rs-dt-training.co.uk/course/s10hs-grinding-and-sharpening-6/
LOCATION:Herewoode Academy\, New Parks\, Leicester LE36DN
CATEGORIES:Health & Safety
ATTACH;FMTTYPE=image/jpeg:https://rs-dt-training.co.uk/wp-content/uploads/S10HS2.jpg
ORGANIZER;CN="RS Training":MAILTO:info@rs-dt-training.co.uk
END:VEVENT
BEGIN:VEVENT
DTSTART;TZID=UTC:20251028T090000
DTEND;TZID=UTC:20251028T160000
DTSTAMP:20260421T185720
CREATED:20250608T125310Z
LAST-MODIFIED:20250608T125929Z
UID:1252-1761642000-1761667200@rs-dt-training.co.uk
SUMMARY:SMHS Secondary Materials Health and Safety
DESCRIPTION:This Nationally accredited practical course will provide: \n\nTeachers\nTechnicians\nSupport staff/Premises Staff\n\nIn Design and Technology Departments ‘initial training’ on the Specialist Level: SMHS Secondary Materials Health and Safety \nThis course will enable delegates to acquire H&S accreditation certification through a ‘hands on’ approach using the following… \n\nDrilling Machine\nSanding Machine\nPortable power tools (Drill & Sander)\nPower Fret Saw\nOff Hand Grinder\nHand Tools\nPlastics Moulding Equipment\nMortiser\n\nPlease note – Certification is valid for a period of 5 years.
URL:https://rs-dt-training.co.uk/course/smhs-secondary-materials-health-and-safety-15/
LOCATION:Herewoode Academy\, New Parks\, Leicester LE36DN
CATEGORIES:Woodwork
ATTACH;FMTTYPE=image/jpeg:https://rs-dt-training.co.uk/wp-content/uploads/RS-DT-Training-based-in-Leicester-31-scaled-e1739537312607.jpg
ORGANIZER;CN="RS Training":MAILTO:info@rs-dt-training.co.uk
END:VEVENT
END:VCALENDAR